BEGIN:VCALENDAR
VERSION:2.0
PRODID:-//ChamberMaster//Event Calendar 2.0//EN
METHOD:PUBLISH
X-PUBLISHED-TTL:P3D
REFRESH-INTERVAL:P3D
CALSCALE:GREGORIAN
BEGIN:VEVENT
DTSTART:20190915T204500Z
DTEND:20190915T224500Z
X-MICROSOFT-CDO-ALLDAYEVENT:FALSE
SUMMARY:YWCA Sunset Nature Cruise Sept. 15th
DESCRIPTION:On Sunday\, September 15th\, from 4:45   6:45 pm\, YWCA MDI and Bar Harbor Whale Watch Company will sponsor a two-hour sunset nature cruise of Frenchman Bay. A naturalist will narrate a guided tour in the first hour and the boat's galley will be open for cocktails and refreshments. Tickets are $25 each. Proceeds will benefit YWCA MDI's year-round programs dedicated to eliminating racism and empowering women. For ticket information call 288-5008 or purchase online at https://donate.ywcamdi.org/cruise/
X-ALT-DESC;FMTTYPE=text/html:On Sunday\, September 15th\, from 4:45 &ndash\; 6:45 pm\, YWCA MDI and Bar Harbor Whale Watch Company will sponsor a two-hour sunset nature cruise of Frenchman Bay. A naturalist will narrate a guided tour in the first hour and the boat&#39\;s galley will be open for cocktails and refreshments. Tickets are $25 each. Proceeds will benefit YWCA MDI&rsquo\;s year-round programs dedicated to eliminating racism and empowering women. For ticket information call 288-5008 or purchase online at https://donate.ywcamdi.org/cruise/
LOCATION:Bar Harbor Whale Watch Company 1 West St.\, Bar Harbor
UID:e.3061.14613
SEQUENCE:3
DTSTAMP:20260419T192643Z
URL:https://www.visitbarharbor.com/events/details/ywca-sunset-nature-cruise-sept-15th-14613
END:VEVENT

END:VCALENDAR
