BEGIN:VCALENDAR
VERSION:2.0
PRODID:-//ChamberMaster//Event Calendar 2.0//EN
METHOD:PUBLISH
X-PUBLISHED-TTL:P3D
REFRESH-INTERVAL:P3D
CALSCALE:GREGORIAN
BEGIN:VEVENT
DTSTART:20180814T140000Z
DTEND:20180814T160000Z
X-MICROSOFT-CDO-ALLDAYEVENT:FALSE
SUMMARY:YWCA PIE SALE
DESCRIPTION:The YWCA of Mount Desert Island's outdoor summer pie sales continue every Tuesday morning from 10 to noon through August 28th. Sweet and savory\, fresh and delicious homemade pies of every variety are provided by talented local volunteers. Pies sell out quickly so be sure to stop by early for the best selection. Proceeds benefit important YWCA programs. YWCA of Mount Desert Island\, 36 Mount Desert Street\, Bar Harbor. Info 207-288-5008.
X-ALT-DESC;FMTTYPE=text/html:The YWCA of Mount Desert Island&rsquo\;s outdoor summer pie sales continue every Tuesday morning from 10 to noon through August 28th. Sweet and savory\, fresh and delicious homemade pies of every variety are provided by talented local volunteers. Pies sell out quickly so be sure to stop by early for the best selection. Proceeds benefit important YWCA programs. YWCA of Mount Desert Island\, 36 Mount Desert Street\, Bar Harbor. Info 207-288-5008.
LOCATION:36 Mount Desert Street\, Bar Harbor
UID:e.3061.3382
SEQUENCE:3
DTSTAMP:20260420T214219Z
URL:https://www.visitbarharbor.com/events/details/ywca-pie-sale-08-14-2018-3382
END:VEVENT

END:VCALENDAR
