BEGIN:VCALENDAR
VERSION:2.0
PRODID:-//ChamberMaster//Event Calendar 2.0//EN
METHOD:PUBLISH
X-PUBLISHED-TTL:P3D
REFRESH-INTERVAL:P3D
CALSCALE:GREGORIAN
BEGIN:VEVENT
DTSTART:20190820T140000Z
DTEND:20190820T160000Z
X-MICROSOFT-CDO-ALLDAYEVENT:FALSE
SUMMARY:YWCA MDI Pie Sale Every Tuesday 10 am - noon
DESCRIPTION:YWCA MDI summer pie sales begin Tuesday June 18 from 10 am - noon\, and every Tuesday through August 27th. Stop by 36 Mount Desert Street and buy some scrumptious Y pies\, expertly baked from scratch by YWCA MDI volunteers. Proceeds benefit important YWCA programs dedicated to eliminating racism and empowering women. Info 288-5008.
X-ALT-DESC;FMTTYPE=text/html:YWCA MDI summer pie sales begin Tuesday June 18 from 10 am - noon\, and every Tuesday through August 27th. Stop by 36 Mount Desert Street and buy some scrumptious Y pies\, expertly baked from scratch by YWCA MDI volunteers. Proceeds benefit important YWCA programs dedicated to eliminating racism and empowering women. Info 288-5008.
LOCATION:YWCA MDI\, 36 Mount Desert St.\, Bar Harbor
UID:e.3061.11434
SEQUENCE:3
DTSTAMP:20260422T193911Z
URL:https://www.visitbarharbor.com/events/details/ywca-mdi-pie-sale-every-tuesday-10-am-noon-08-20-2019-11434
END:VEVENT

END:VCALENDAR
