BEGIN:VCALENDAR
VERSION:2.0
PRODID:-//ChamberMaster//Event Calendar 2.0//EN
METHOD:PUBLISH
X-PUBLISHED-TTL:P3D
REFRESH-INTERVAL:P3D
CALSCALE:GREGORIAN
BEGIN:VEVENT
DTSTART:20210831T140000Z
DTEND:20210831T210000Z
X-MICROSOFT-CDO-ALLDAYEVENT:FALSE
SUMMARY:YWCA MDI Pie Sale
DESCRIPTION:Homemade Pies for sale (baked by our wonderful volunteers) at the YWCA MDI in Bar Harbor each Tuesday\, 10 am until gone.
X-ALT-DESC;FMTTYPE=text/html:Homemade Pies for sale (baked by our wonderful volunteers) at the YWCA MDI in Bar Harbor each Tuesday\, 10 am until gone.
LOCATION:36 Mt. Desert St.\, Bar Harbor
UID:e.3061.37072
SEQUENCE:3
DTSTAMP:20260421T023255Z
URL:https://www.visitbarharbor.com/events/details/ywca-mdi-pie-sale-08-31-2021-37072
END:VEVENT

END:VCALENDAR
