BEGIN:VCALENDAR
VERSION:2.0
PRODID:-//ChamberMaster//Event Calendar 2.0//EN
METHOD:PUBLISH
X-PUBLISHED-TTL:P3D
REFRESH-INTERVAL:P3D
CALSCALE:GREGORIAN
BEGIN:VEVENT
DTSTART:20190810T233000Z
DTEND:20190811T013000Z
X-MICROSOFT-CDO-ALLDAYEVENT:FALSE
SUMMARY:YWCA MDI Luminaria Evening
DESCRIPTION:YWCA MDI's 18th Annual Carol Dyer Memorial Luminaria Evening will take place on the Bar Harbor Village Green on Saturday\, August 10th\, from 7-9:30 pm. The evening is a ceremony of hope and remembrance honoring cancer survivors and those who lost their battle with cancer. Proceeds will benefit the Beth C. Wright Cancer Center in Ellsworth. Luminaria bags may be purchased at the event or in advance for a suggested donation of $10 each. To purchase a luminaria bag online please visit https://www.ywcamdi.org/. Info 207-288-5008.
X-ALT-DESC;FMTTYPE=text/html:YWCA MDI&#39\;s 18th Annual Carol Dyer Memorial Luminaria Evening will take place on the Bar Harbor Village Green on Saturday\, August 10th\, from 7-9:30 pm. The evening is a ceremony of hope and remembrance honoring cancer survivors and those who lost their battle with cancer. Proceeds will benefit the Beth C. Wright Cancer Center in Ellsworth. Luminaria bags may be purchased at the event or in advance for a suggested donation of $10 each. To purchase a luminaria bag online please visit https://www.ywcamdi.org/. Info 207-288-5008.
LOCATION:Bar Harbor Village Green
UID:e.3061.14245
SEQUENCE:3
DTSTAMP:20260419T211017Z
URL:https://www.visitbarharbor.com/events/details/ywca-mdi-luminaria-evening-14245
END:VEVENT

END:VCALENDAR
