BEGIN:VCALENDAR
VERSION:2.0
PRODID:-//ChamberMaster//Event Calendar 2.0//EN
METHOD:PUBLISH
X-PUBLISHED-TTL:P3D
REFRESH-INTERVAL:P3D
CALSCALE:GREGORIAN
BEGIN:VEVENT
DTSTART:20190904T200000Z
DTEND:20190904T210000Z
X-MICROSOFT-CDO-ALLDAYEVENT:FALSE
SUMMARY:Yoga Nidra (Relax & Renew)
DESCRIPTION:A blissful guided experience known as yogic sleep is offered comfortably on the oceanfront lawn listening to the sound of the waves. The practice is to completely relax\, restore and deeply rejuvenate the body and mind. This class allows you to unwind and offers a calming quality within by using guided imagery\, body scanning\, and breath awareness to enhance your vacation experience. It does not involve any physical movement of any kind so even if you have a health condition\, you can enjoy this class as it is done as you lie in stillness. This activity quiets an overactive mind\, promotes better sleep\, eases anxiety\, and calms stress. \n \n\nPlease wear comfortable clothing. No pre-registration necessary. $15 per person. \n\n \n\nClass is on the lawn in front of the oceanfront building by the Shore Path. \n\n\n\nClass canceled in inclement weather. Contact Beth for questions 340/643-6467 or emoptician@aol.com.
X-ALT-DESC;FMTTYPE=text/html:A blissful guided experience known as yogic sleep is offered comfortably on the oceanfront lawn listening to the sound of the waves. The practice is to completely relax\, restore and deeply rejuvenate the body and mind. This class allows you to unwind and offers a calming quality within by using guided imagery\, body scanning\, and breath awareness to enhance your vacation experience. It does not involve any physical movement of any kind so even if you have a health condition\, you can enjoy this class as it is done as you lie in stillness. This activity quiets an overactive mind\, promotes better sleep\, eases anxiety\, and calms stress.&nbsp\;\n<div>&nbsp\;</div>\n\n<div>Please wear comfortable clothing. No pre-registration necessary. $15 per person.&nbsp\;</div>\n\n<div>&nbsp\;</div>\n\n<div>Class is on the lawn in front of the oceanfront building by the Shore Path.&nbsp\;<br />\n<br />\nClass canceled in inclement weather.&nbsp\;Contact Beth for questions 340/643-6467 or emoptician@aol.com.</div>\n
LOCATION:Bar Harbor Inn & Spa 1 Newport Drive\, Bar Harbor
UID:e.3061.10620
SEQUENCE:3
DTSTAMP:20260419T231256Z
URL:https://www.visitbarharbor.com/events/details/yoga-nidra-relax-renew-09-04-2019-10620
END:VEVENT

END:VCALENDAR
