BEGIN:VCALENDAR
VERSION:2.0
PRODID:-//ChamberMaster//Event Calendar 2.0//EN
METHOD:PUBLISH
X-PUBLISHED-TTL:P3D
REFRESH-INTERVAL:P3D
CALSCALE:GREGORIAN
BEGIN:VEVENT
DTSTART:20181212T230000Z
DTEND:20181213T020000Z
X-MICROSOFT-CDO-ALLDAYEVENT:FALSE
SUMMARY:Woven Ornaments Holiday Workshop with Cristy Benson
DESCRIPTION:All are welcome to join Cristy Benson this evening to create beautiful hand-woven ornaments. \nStars\, hearts\, and more. No experience necessary and we provide all you need with step by step instructions. These make beautiful gifts or home decorations.\n\n\n6-9 PM
X-ALT-DESC;FMTTYPE=text/html:<pre>\nAll are welcome to join Cristy Benson this evening to create beautiful hand-woven ornaments. \nStars\, hearts\, and more. No experience necessary and we provide all you need with step by step instructions. These make beautiful gifts or home decorations.\n</pre>\n\n<p>6-9 PM</p>\n
LOCATION:ArtWaves Your Community Arts Center 207-266-0010 1345-A State Highway 102 Bar Harbor\, ME 04609Art ArtWaves 11Your Community Arts Center 207-266-0010 ArtWaves Your Community Arts Center 207-266-0010 1345-A State Highway 102 Bar Harbor\, ME 04609 1345-A State Highway 102 Bar Harbor\, ME 04609 ArtWaves Your Community Arts Center 207-266-0010 1345-A State Highway 102 Bar Harbor\, ME 04609
UID:e.3061.4522
SEQUENCE:3
DTSTAMP:20260420T132307Z
URL:https://www.visitbarharbor.com/events/details/woven-ornaments-holiday-workshop-with-cristy-benson-4522
END:VEVENT

END:VCALENDAR
