BEGIN:VCALENDAR
VERSION:2.0
PRODID:-//ChamberMaster//Event Calendar 2.0//EN
METHOD:PUBLISH
X-PUBLISHED-TTL:P3D
REFRESH-INTERVAL:P3D
CALSCALE:GREGORIAN
BEGIN:VEVENT
DTSTART:20180725T120000Z
DTEND:20180726T000000Z
X-MICROSOFT-CDO-ALLDAYEVENT:FALSE
SUMMARY:WordSesh 2018 Viewing Party
DESCRIPTION:Calling all WordPress users   Join us at Anchorspace on July 25th for our Free Wordsesh 2018 Viewing Party We'll have Coffee\, tea & water available. Bring a lunch if your planning on viewing the lunchtime session https://www.facebook.com/events/833884886810363/
X-ALT-DESC;FMTTYPE=text/html:Calling all WordPress users&hellip\;&hellip\; Join us at Anchorspace on July 25th for our Free Wordsesh 2018 Viewing Party We&rsquo\;ll have Coffee\, tea &amp\; water available. Bring a lunch if your planning on viewing the lunchtime session https://www.facebook.com/events/833884886810363/
LOCATION:Anchorspace 337 Main St. Bar Harbor ME 04609
UID:e.3061.3354
SEQUENCE:3
DTSTAMP:20260420T195448Z
URL:https://www.visitbarharbor.com/events/details/wordsesh-2018-viewing-party-3354
END:VEVENT

END:VCALENDAR
