BEGIN:VCALENDAR
VERSION:2.0
PRODID:-//ChamberMaster//Event Calendar 2.0//EN
METHOD:PUBLISH
X-PUBLISHED-TTL:P3D
REFRESH-INTERVAL:P3D
CALSCALE:GREGORIAN
BEGIN:VEVENT
DTSTART:20181117T000000Z
DTEND:20181117T010000Z
X-MICROSOFT-CDO-ALLDAYEVENT:FALSE
SUMMARY:Words Unleashed! Story Slam "In Over Your Head"
DESCRIPTION:If you have ever been over your head either literally or figuratively stop by the Jesup Memorial Library on Friday\, November 16 at 7 p.m. to share your true\, first person story at the next Words Unleashed! Story Slam. \n\n \n\nThe theme of the night is "in over your head." Were you suddenly in a conversation that made no sense or maybe you were tasked with more than you can handle. Join emcee Jeff Miller and share your story. Each story should be no more than five minutes long. Come tell your tale or listen to the stories of your friends and neighbors. At the end of each slam\, the theme for the next slam is chosen.\n\n \n\nFor more information contact the Jesup at 207-288-4245 or mrice@jesuplibrary.org.
X-ALT-DESC;FMTTYPE=text/html:<span style="font-family:times new roman\,serif"><span style="font-size:14.0pt">If you have ever been over your head either literally or figuratively stop by the Jesup Memorial Library on Friday\, November 16 at 7 p.m. to share your true\, first person story at the next Words Unleashed! Story Slam. </span></span><br />\n&nbsp\;<br />\n<span style="font-family:times new roman\,serif"><span style="font-size:14.0pt">The theme of the night is &ldquo\;in over your head.&rdquo\; Were you suddenly in a conversation that made no sense or maybe you were tasked with more than you can handle. Join emcee Jeff Miller and share your story. Each story should be no more than five minutes long. Come tell your tale or listen to the stories of your friends and neighbors. At the end of each slam\, the theme for the next slam is chosen.</span></span><br />\n&nbsp\;<br />\n<span style="font-family:times new roman\,serif"><span style="font-size:14.0pt">For more information contact the Jesup at 207-288-4245 or mrice@jesuplibrary.org.</span></span>
LOCATION:Jesup Memorial Library\, 34 Mt. Desert St.\, Bar Harbor\, ME 04609
UID:e.3061.4503
SEQUENCE:3
DTSTAMP:20260420T114115Z
URL:https://www.visitbarharbor.com/events/details/words-unleashed-story-slam-in-over-your-head-4503
END:VEVENT

END:VCALENDAR
