BEGIN:VCALENDAR
VERSION:2.0
PRODID:-//ChamberMaster//Event Calendar 2.0//EN
METHOD:PUBLISH
X-PUBLISHED-TTL:P3D
REFRESH-INTERVAL:P3D
CALSCALE:GREGORIAN
BEGIN:VEVENT
DTSTART:20190920T230000Z
DTEND:20190921T000000Z
X-MICROSOFT-CDO-ALLDAYEVENT:FALSE
SUMMARY:Words Unleashed! Story Slam "I'll Never Do That Again"
DESCRIPTION:If you have ever done something and thought or maybe muttered to yourself\, "I'll never do that again\," join emcee Jeff Miller and share that story at the next Words Unleashed! Story Slam on Friday\, Sept. 20 at 7 p.m. The theme of the night's slam is "I'll never do that again" and everyone is welcome to share a story that fits the theme. \n\n \n\nIf you are familiar with "The Moth" story hour\, you know the concept. All stories are true\, first-person stories that are five minutes or shorter that fit the theme. Come tell your tale or listen to the stories of your friends and neighbors. At the end of each slam\, the theme for the next slam is chosen.\n\n \n\nFor more information contact the Jesup at 207-288-4245.
X-ALT-DESC;FMTTYPE=text/html:<span style="font-family:times new roman\,serif"><span style="font-size:14.0pt">If you have ever done something and thought or maybe muttered to yourself\, &ldquo\;I&rsquo\;ll never do <em>that</em> again\,&rdquo\; join emcee Jeff Miller and share that story at the next Words Unleashed! Story Slam on Friday\, Sept. 20 at 7 p.m. The theme of the night&rsquo\;s slam is &ldquo\;I&rsquo\;ll never do that again&rdquo\; and everyone is welcome to share a story that fits the theme. </span></span><br />\n&nbsp\;<br />\n<span style="font-family:times new roman\,serif"><span style="font-size:14.0pt">If you are familiar with &ldquo\;The Moth&rdquo\; story hour\, you know the concept. All stories are true\, first-person stories that are five minutes or shorter that fit the theme. Come tell your tale or listen to the stories of your friends and neighbors. At the end of each slam\, the theme for the next slam is chosen.</span></span><br />\n&nbsp\;<br />\n<span style="font-family:times new roman\,serif"><span style="font-size:14.0pt">For more information contact the Jesup at 207-288-4245.</span></span>
LOCATION:Jesup Memorial Library\, 34 Mt. Desert St.\, Bar Harbor\, ME 04609
UID:e.3061.14673
SEQUENCE:3
DTSTAMP:20260419T173316Z
URL:https://www.visitbarharbor.com/events/details/words-unleashed-story-slam-i-ll-never-do-that-again-14673
END:VEVENT

END:VCALENDAR
