BEGIN:VCALENDAR
VERSION:2.0
PRODID:-//ChamberMaster//Event Calendar 2.0//EN
METHOD:PUBLISH
X-PUBLISHED-TTL:P3D
REFRESH-INTERVAL:P3D
CALSCALE:GREGORIAN
BEGIN:VEVENT
DTSTART:20180518T230000Z
DTEND:20180519T000000Z
X-MICROSOFT-CDO-ALLDAYEVENT:FALSE
SUMMARY:Words Unleashed! Story Slam
DESCRIPTION:"When I Was Little " is the theme of the Jesup Memorial Library's next Words Unleashed! Story Slam on Friday\, May 18 at 7 p.m. Come share your story that fits the theme. What was different when you were little? Have you ever had to sit through a "when I was your age " story? We want to hear your tale. \n\n \n\nThose familiar with "The Moth" broadcast on NPR will recognize the format. These are true stories told live. Stories must be your own and told in the first person\, and should be no more than five minutes long. At the end of each slam\, the theme of the next slam is chosen by the audience. Come share your story or listen to your friends and neighbors tell theirs.\n\n \n\nFor more information\, contact the Jesup at 207-288-4245 or mrice@jesuplibrary.org.
X-ALT-DESC;FMTTYPE=text/html:<span style="font-family:times new roman\,serif"><span style="font-size:14.0pt">&ldquo\;When I Was Little&hellip\;&rdquo\; is the theme of the Jesup Memorial Library&rsquo\;s next Words Unleashed! Story Slam on Friday\, May 18 at 7 p.m. Come share your story that fits the theme. What was different when you were little? Have you ever had to sit through a &ldquo\;when I was your age&hellip\;&rdquo\; story? We want to hear your tale. </span></span><br />\n&nbsp\;<br />\n<span style="font-family:times new roman\,serif"><span style="font-size:14.0pt">Those familiar with &quot\;The Moth&quot\; broadcast on NPR will recognize the format. These are true stories told live. Stories must be your own and told in the first person\, and should be no more than five minutes long. At the end of each slam\, the theme of the next slam is chosen by the audience. Come share your story or listen to your friends and neighbors tell theirs.</span></span><br />\n&nbsp\;<br />\n<span style="font-family:times new roman\,serif"><span style="font-size:14.0pt">For more information\, contact the Jesup at 207-288-4245 or </span></span><a href="mailto:mrice@jesuplibrary.org"><span style="font-family:times new roman\,serif"><span style="font-size:14.0pt">mrice@jesuplibrary.org</span></span></a><span style="font-family:times new roman\,serif"><span style="font-size:14.0pt">.</span></span>
LOCATION:Jesup Memorial Library\, 34 Mt. Desert St.\, Bar Harbor\, ME 04609
UID:e.3061.2177
SEQUENCE:3
DTSTAMP:20260420T232459Z
URL:https://www.visitbarharbor.com/events/details/words-unleashed-story-slam-2177
END:VEVENT

END:VCALENDAR
