BEGIN:VCALENDAR
VERSION:2.0
PRODID:-//ChamberMaster//Event Calendar 2.0//EN
METHOD:PUBLISH
X-PUBLISHED-TTL:P3D
REFRESH-INTERVAL:P3D
CALSCALE:GREGORIAN
BEGIN:VEVENT
DTSTART:20180928T230000Z
DTEND:20180929T000000Z
X-MICROSOFT-CDO-ALLDAYEVENT:FALSE
SUMMARY:Words Unleashed! Story Slam
DESCRIPTION:Join the Jesup Memorial Library and share your story at the next Words Unleashed! Story Slam on Friday\, Sept. 28 at 7 p.m. These are true\, first-person stories\, told live. The theme for this slam is "anything goes." The sky is the limit! We want to hear your stories that fit this theme. Jeff Miller will emcee the evening and the audience that night chooses the theme of the next slam. \n\n \n\nFor more information contact the Jesup at 207-288-4245 or mrice@jesuplibrary.org.
X-ALT-DESC;FMTTYPE=text/html:<span style="font-family:times new roman\,serif"><span style="font-size:14.0pt">Join the Jesup Memorial Library and share your story at the next Words Unleashed! Story Slam on Friday\, Sept. 28 at 7 p.m. These are true\, first-person stories\, told live. The theme for this slam is &ldquo\;anything goes.&rdquo\; The sky is the limit! We want to hear your stories that fit this theme. Jeff Miller will emcee the evening and the audience that night chooses the theme of the next slam. </span></span><br />\n&nbsp\;<br />\n<span style="font-family:times new roman\,serif"><span style="font-size:14.0pt"><span>For more information contact the Jesup at <span class="gc-cs-link" id="gc-number-0" title="Call with Google Voice">207-288-4245</span> or </span><a href="mailto:mrice@jesuplibrary.org">mrice@jesuplibrary.org</a></span>. </span>
LOCATION:Jesup Memorial Library\, 34 Mt. Desert St.\, Bar Harbor\, ME 04609
UID:e.3061.3926
SEQUENCE:3
DTSTAMP:20260420T164046Z
URL:https://www.visitbarharbor.com/events/details/words-unleashed-story-slam-09-28-2018-3926
END:VEVENT

END:VCALENDAR
