BEGIN:VCALENDAR
VERSION:2.0
PRODID:-//ChamberMaster//Event Calendar 2.0//EN
METHOD:PUBLISH
X-PUBLISHED-TTL:P3D
REFRESH-INTERVAL:P3D
CALSCALE:GREGORIAN
BEGIN:VEVENT
DTSTART:20180720T230000Z
DTEND:20180721T000000Z
X-MICROSOFT-CDO-ALLDAYEVENT:FALSE
SUMMARY:Words Unleashed! Story Slam
DESCRIPTION:What's the most dangerous thing you have ever done? Maybe you sailed right into a storm\, or ran with the bulls or just wandered into the unknown. We want to hear your story! Join the Jesup Memorial Library to tell your story that answers the question "what's the most dangerous thing you have ever done?" at our next Words Unleashed! Story Slam on Friday\, July 20 at 7 p.m.\n\n \n\nThese are true\, first-person stories told live. Each story should be no more than five minutes long. Come tell your tale or listen to the stories of your friends and neighbors. At the end of each slam\, the theme for the next slam is chosen.\n\n \n\nFor more information\, contact the Jesup at 207-288-4245 or mrice@jesuplibrary.org.
X-ALT-DESC;FMTTYPE=text/html:<span style="font-family:times new roman\,serif"><span style="font-size:14.0pt">What&rsquo\;s the most dangerous thing you have ever done? Maybe you sailed right into a storm\, or ran with the bulls or just wandered into the unknown. We want to hear your story! Join the Jesup Memorial Library to tell your story that answers the question &ldquo\;what&rsquo\;s the most dangerous thing you have ever done?&rdquo\; at our next Words Unleashed! Story Slam on Friday\, July 20 at 7 p.m.</span></span><br />\n&nbsp\;<br />\n<span style="font-family:times new roman\,serif"><span style="font-size:14.0pt">These are true\, first-person stories told live. Each story should be no more than five minutes long. Come tell your tale or listen to the stories of your friends and neighbors. At the end of each slam\, the theme for the next slam is chosen.</span></span><br />\n&nbsp\;<br />\n<span style="font-family:times new roman\,serif"><span style="font-size:14.0pt">For more information\, contact the Jesup at 207-288-4245 or <a href="mailto:mrice@jesuplibrary.org">mrice@jesuplibrary.org</a></span>. </span>
LOCATION:Jesup Memorial Library\, 34 Mt. Desert St.\, Bar Harbor\, ME 04609
UID:e.3061.3301
SEQUENCE:3
DTSTAMP:20260420T182516Z
URL:https://www.visitbarharbor.com/events/details/words-unleashed-story-slam-07-20-2018-3301
END:VEVENT

END:VCALENDAR
