BEGIN:VCALENDAR
VERSION:2.0
PRODID:-//ChamberMaster//Event Calendar 2.0//EN
METHOD:PUBLISH
X-PUBLISHED-TTL:P3D
REFRESH-INTERVAL:P3D
CALSCALE:GREGORIAN
BEGIN:VEVENT
DTSTART:20190119T000000Z
DTEND:20190119T010000Z
X-MICROSOFT-CDO-ALLDAYEVENT:FALSE
SUMMARY:Words Unleashed! Story Slam
DESCRIPTION:Did something happen as you intended or did it take an unexpected turn? Maybe you found yourself muttering "well THAT worked" or maybe even screaming it. We want to hear that true\, first-person story at the next Words Unleashed! Story Slam on Friday\, Jan. 18 at 7 p.m. The theme of the slam is "well THAT worked\," Join the Jesup and emcee Jeff Miller\, and share the story that had you uttering that phrase.\n\n \n\nStories should be no more than five minutes long\, in the first person and your own true story. Come tell your tale or listen to the stories of your friends and neighbors. At the end of each slam\, the theme for the next slam is chosen.\n\n \n\nFor more information contact the Jesup at 207-288-4245 or mrice@jesuplibrary.org.
X-ALT-DESC;FMTTYPE=text/html:<span style="font-family:times new roman\,serif"><span style="font-size:14.0pt">Did something happen as you intended or did it take an unexpected turn? Maybe you found yourself muttering &ldquo\;well THAT worked&rdquo\; or maybe even screaming it. We want to hear that true\, first-person story at the next Words Unleashed! Story Slam on Friday\, Jan. 18 at 7 p.m. The theme of the slam is &ldquo\;well THAT worked\,&rdquo\; Join the Jesup and emcee Jeff Miller\, and share the story that had you uttering that phrase.</span></span><br />\n&nbsp\;<br />\n<span style="font-family:times new roman\,serif"><span style="font-size:14.0pt">Stories should be no more than five minutes long\, in the first person and your own true story. Come tell your tale or listen to the stories of your friends and neighbors. At the end of each slam\, the theme for the next slam is chosen.</span></span><br />\n&nbsp\;<br />\n<span style="font-family:times new roman\,serif"><span style="font-size:14.0pt">For more information contact the Jesup at <span class="gc-cs-link" id="gc-number-0" title="Call with Google Voice">207-288-4245</span> or mrice@jesuplibrary.org.</span></span>
LOCATION:Jesup Memorial Library\, 34 Mt. Desert St.\, Bar Harbor\, ME 04609
UID:e.3061.4842
SEQUENCE:3
DTSTAMP:20260420T081630Z
URL:https://www.visitbarharbor.com/events/details/words-unleashed-story-slam-01-18-2019-4842
END:VEVENT

END:VCALENDAR
