BEGIN:VCALENDAR
VERSION:2.0
PRODID:-//ChamberMaster//Event Calendar 2.0//EN
METHOD:PUBLISH
X-PUBLISHED-TTL:P3D
REFRESH-INTERVAL:P3D
CALSCALE:GREGORIAN
BEGIN:VEVENT
DTSTART:20180509T150000Z
DTEND:20180509T160000Z
X-MICROSOFT-CDO-ALLDAYEVENT:FALSE
SUMMARY:Woodlawn Over Coffee
DESCRIPTION:The public is invited to join us for a cup of coffee and to learn about Woodlawn's future plans\, including the reconstruction of Woodlawn's Carriage Barn.  The Black House will be open after the presentation for a walk-through.  Reservations are appreciated\, visit https://woodlawnmuseum.com/events/
X-ALT-DESC;FMTTYPE=text/html:<span style="color:rgb(34\, 34\, 34)\; font-family:arial\,verdana\,sans-serif\; font-size:12px">The public is invited to join us for a cup of coffee and to learn about Woodlawn&rsquo\;s future plans\, including the reconstruction of Woodlawn&rsquo\;s Carriage Barn.&nbsp\; The Black House will be open after the presentation for a walk-through.&nbsp\; Reservations are appreciated\, visit https://woodlawnmuseum.com/events/</span>
LOCATION:Woodlawn Museum
UID:e.3061.858
SEQUENCE:3
DTSTAMP:20260421T031741Z
URL:https://www.visitbarharbor.com/events/details/woodlawn-over-coffee-05-09-2018-858
END:VEVENT

END:VCALENDAR
