BEGIN:VCALENDAR
VERSION:2.0
PRODID:-//ChamberMaster//Event Calendar 2.0//EN
METHOD:PUBLISH
X-PUBLISHED-TTL:P3D
REFRESH-INTERVAL:P3D
CALSCALE:GREGORIAN
BEGIN:VEVENT
DTSTART:20190616T123000Z
DTEND:20190616T200000Z
X-MICROSOFT-CDO-ALLDAYEVENT:FALSE
SUMMARY:Woodlawn Invitational Croquet Tournament
DESCRIPTION:Woodlawn Invitational Croquet Tournament is a six wicket USCA sanctioned tournament. Courts will be open for practice on Wednesday afternoon\, June 12. Play will start on Thursday morning\, June 13 and end on Sunday afternoon\, June 16. The opening reception and dinner will be Wednesday evening\, June 12\, at the Woodlawn Museum Sleigh Barn.
X-ALT-DESC;FMTTYPE=text/html:Woodlawn Invitational Croquet Tournament is a six wicket USCA sanctioned tournament. Courts will be open for practice on Wednesday afternoon\, June 12. Play will start on Thursday morning\, June 13 and end on Sunday afternoon\, June 16. The opening reception and dinner will be Wednesday evening\, June 12\, at the Woodlawn Museum Sleigh Barn.
LOCATION:Woodlawn Museum 19 Black House Dr. Ellsworth\, ME 04605
UID:e.3061.8942
SEQUENCE:3
DTSTAMP:20260419T231607Z
URL:https://www.visitbarharbor.com/events/details/woodlawn-invitational-croquet-tournament-06-16-2019-8942
END:VEVENT

END:VCALENDAR
