BEGIN:VCALENDAR
VERSION:2.0
PRODID:-//ChamberMaster//Event Calendar 2.0//EN
METHOD:PUBLISH
X-PUBLISHED-TTL:P3D
REFRESH-INTERVAL:P3D
CALSCALE:GREGORIAN
BEGIN:VEVENT
DTSTART;VALUE=DATE:20180616
DTEND;VALUE=DATE:20180617
TRANSP:TRANSPARENT
X-MICROSOFT-CDO-ALLDAYEVENT:TRUE
SUMMARY:Woodlawn Invitational Croquet Tournament
DESCRIPTION:Woodlawn Invitational Croquet Tournament is a six wicket USCA sanctioned tournament. Courts will be open for practice on Wednesday afternoon\, June 13. Play will start on Thursday morning\, June 14 and end on Sunday afternoon\, June 17. The opening reception and dinner will be Wednesday evening\, June 13\, at the Woodlawn Museum Sleigh Barn. Spectators are welcome.
X-ALT-DESC;FMTTYPE=text/html:Woodlawn Invitational Croquet Tournament is a six wicket USCA sanctioned tournament. Courts will be open for practice on Wednesday afternoon\, June 13. Play will start on Thursday morning\, June 14 and end on Sunday afternoon\, June 17. The opening reception and dinner will be Wednesday evening\, June 13\, at the Woodlawn Museum Sleigh Barn. Spectators are welcome.
LOCATION:Woodlawn Museum\, 19 Black House Drive\, Ellsworth\, ME 04605
UID:e.3061.2187
SEQUENCE:3
DTSTAMP:20260420T220417Z
URL:https://www.visitbarharbor.com/events/details/woodlawn-invitational-croquet-tournament-06-16-2018-2187
END:VEVENT

END:VCALENDAR
