BEGIN:VCALENDAR
VERSION:2.0
PRODID:-//ChamberMaster//Event Calendar 2.0//EN
METHOD:PUBLISH
X-PUBLISHED-TTL:P3D
REFRESH-INTERVAL:P3D
CALSCALE:GREGORIAN
BEGIN:VEVENT
DTSTART:20190117T200000Z
DTEND:20190117T230000Z
X-MICROSOFT-CDO-ALLDAYEVENT:FALSE
SUMMARY:Woo Woo Day
DESCRIPTION:The healing arts (ie the Woo-Woo) are getting more and more popular. What if there was an easy way to try some woo-woo at a fun event? This is our first woo-woo event and we hope to host them regularly with different practitioners. This session we have: AntoinetteCaruso.com - Energy/Spiritual Work Sage Moon Apothecary\, LLC - Herbal Consultations Healing Numbers- Numerology Readings You'll be able to book individual half hour sessions with the practitioners for $60 per session. So bring your friends\, bring your free spirit\, and get your woo-woo on\, right when you need it in the new year!
X-ALT-DESC;FMTTYPE=text/html:The healing arts (ie the Woo-Woo) are getting more and more popular. What if there was an easy way to try some woo-woo at a fun event? This is our first woo-woo event and we hope to host them regularly with different practitioners. This session we have: AntoinetteCaruso.com - Energy/Spiritual Work Sage Moon Apothecary\, LLC - Herbal Consultations Healing Numbers- Numerology Readings You&#39\;ll be able to book individual half hour sessions with the practitioners for $60 per session. So bring your friends\, bring your free spirit\, and get your woo-woo on\, right when you need it in the new year!
LOCATION:Anchorspace Ellsworth
UID:e.3061.4821
SEQUENCE:3
DTSTAMP:20260420T081401Z
URL:https://www.visitbarharbor.com/events/details/woo-woo-day-4821
END:VEVENT

END:VCALENDAR
