BEGIN:VCALENDAR
VERSION:2.0
PRODID:-//ChamberMaster//Event Calendar 2.0//EN
METHOD:PUBLISH
X-PUBLISHED-TTL:P3D
REFRESH-INTERVAL:P3D
CALSCALE:GREGORIAN
BEGIN:VEVENT
DTSTART;VALUE=DATE:20181215
DTEND;VALUE=DATE:20190126
TRANSP:TRANSPARENT
X-MICROSOFT-CDO-ALLDAYEVENT:TRUE
SUMMARY:Women's History Month 2019--call for exhibitors
DESCRIPTION:A Celebration of Women's History Month at the SWH Library Visionary Women: Her Story/My Story March 2019 Registration is Open! For the 2019 Women's History Month exhibition\, the Southwest Harbor Public Library invites women and girls of all ages from our community to create and exhibit an item inspired by a "Visionary Woman." This Visionary Woman may be alive today or from the past. She may be widely known or known only to a few\, but she has touched your life and created for you a beacon of inspiration. Your exhibited item may be in any medium\, and you need not be an "artist" to participate. Registration closes January 25. Online registration form available at https://docs.google.com/forms/d/e/1FAIpQLSdVOzqesQuZf1pq_LIf16c4tN9HIHF_GhxuWk6z7GxTEq1ptA/viewform\, or pick up a form at the library. For more information please call the Library at 244-7065.
X-ALT-DESC;FMTTYPE=text/html:A Celebration of Women&#39\;s History Month at the SWH Library Visionary Women: Her Story/My Story March 2019 Registration is Open! For the 2019 Women&#39\;s History Month exhibition\, the Southwest Harbor Public Library invites women and girls of all ages from our community to create and exhibit an item inspired by a &quot\;Visionary Woman.&quot\; This Visionary Woman may be alive today or from the past. She may be widely known or known only to a few\, but she has touched your life and created for you a beacon of inspiration. Your exhibited item may be in any medium\, and you need not be an &quot\;artist&quot\; to participate. Registration closes January 25. Online registration form available at https://docs.google.com/forms/d/e/1FAIpQLSdVOzqesQuZf1pq_LIf16c4tN9HIHF_GhxuWk6z7GxTEq1ptA/viewform\, or pick up a form at the library. For more information please call the Library at 244-7065.
LOCATION:Southwest Harbor Public Library
UID:e.3061.4838
SEQUENCE:3
DTSTAMP:20260420T082015Z
URL:https://www.visitbarharbor.com/events/details/women-s-history-month-2019-call-for-exhibitors-4838
END:VEVENT

END:VCALENDAR
