BEGIN:VCALENDAR
VERSION:2.0
PRODID:-//ChamberMaster//Event Calendar 2.0//EN
METHOD:PUBLISH
X-PUBLISHED-TTL:P3D
REFRESH-INTERVAL:P3D
CALSCALE:GREGORIAN
BEGIN:VEVENT
DTSTART:20181117T130000Z
DTEND:20181117T170000Z
X-MICROSOFT-CDO-ALLDAYEVENT:FALSE
SUMMARY:Women Owned Business Expo
DESCRIPTION:There are lots of great women owned businesses in this community and we want to give them a place to show their stuff! Join us for a morning of breakfast treats and get to know the women owned businesses of MDI! If *you* have a women owned business\, get a table section for your $25 donation to the YWCA MDI. Bring your marketing materials and be ready to talk to people about what you do for work. If you *want* to have a women owned business\, come meet business owners and get an idea of what you could start this fall. This is a great place to bring young women too to see all the amazing things that are going on in the business community. Admission is free! We'll also begin crowd sourcing information for a women-owned business map so if you want to be on the map (or know of some businesses that should be) come tell us!
X-ALT-DESC;FMTTYPE=text/html:There are lots of great women owned businesses in this community and we want to give them a place to show their stuff! Join us for a morning of breakfast treats and get to know the women owned businesses of MDI! If *you* have a women owned business\, get a table section for your $25 donation to the YWCA MDI. Bring your marketing materials and be ready to talk to people about what you do for work. If you *want* to have a women owned business\, come meet business owners and get an idea of what you could start this fall. This is a great place to bring young women too to see all the amazing things that are going on in the business community. Admission is free! We&#39\;ll also begin crowd sourcing information for a women-owned business map so if you want to be on the map (or know of some businesses that should be) come tell us!
LOCATION:YWCA MDI 36 Mount Desert Street\, Bar Harbor\, ME 04609
UID:e.3061.3961
SEQUENCE:3
DTSTAMP:20260420T114115Z
URL:https://www.visitbarharbor.com/events/details/women-owned-business-expo-3961
END:VEVENT

END:VCALENDAR
