BEGIN:VCALENDAR
VERSION:2.0
PRODID:-//ChamberMaster//Event Calendar 2.0//EN
METHOD:PUBLISH
X-PUBLISHED-TTL:P3D
REFRESH-INTERVAL:P3D
CALSCALE:GREGORIAN
BEGIN:VEVENT
DTSTART:20180921T200000Z
DTEND:20180921T230000Z
X-MICROSOFT-CDO-ALLDAYEVENT:FALSE
SUMMARY:Wine Tasting Fundraiser for the Jesup
DESCRIPTION:Join House Wine and the Jesup Memorial Library on Friday\, Sept. 21 from 4 to 7 p.m. at House Wine for their annual fundraiser for the Jesup. The theme for this wine tasting is "Don't Judge a Book by Its Cover" and a portion of the proceeds from all sales made that evening will benefit the library. Drop by to support the Jesup and find a new favorite wine to take home. \n\n \n\nThere is no cover charge for the event. For more information contact the Jesup at 207-288-4245.
X-ALT-DESC;FMTTYPE=text/html:<span style="font-family:times new roman\,serif"><span style="font-size:14.0pt">Join House Wine and the Jesup Memorial Library on Friday\, Sept. 21 from 4 to 7 p.m. at House Wine for their annual fundraiser for the Jesup. The theme for this wine tasting is &ldquo\;Don&rsquo\;t Judge a Book by Its Cover&rdquo\; and a portion of the proceeds from all sales made that evening will benefit the library. Drop by to support the Jesup and find a new favorite wine to take home. </span></span><br />\n&nbsp\;<br />\n<span style="font-family:times new roman\,serif"><span style="font-size:14.0pt">There is no cover charge for the event. For more information contact the Jesup at 207-288-4245. </span></span>
LOCATION:House Wine\, 227 Main St.\, Bar Harbor\, ME 04609
UID:e.3061.3849
SEQUENCE:3
DTSTAMP:20260420T150103Z
URL:https://www.visitbarharbor.com/events/details/wine-tasting-fundraiser-for-the-jesup-3849
END:VEVENT

END:VCALENDAR
