BEGIN:VCALENDAR
VERSION:2.0
PRODID:-//ChamberMaster//Event Calendar 2.0//EN
METHOD:PUBLISH
X-PUBLISHED-TTL:P3D
REFRESH-INTERVAL:P3D
CALSCALE:GREGORIAN
BEGIN:VEVENT
DTSTART:20190807T210000Z
DTEND:20190807T223000Z
X-MICROSOFT-CDO-ALLDAYEVENT:FALSE
SUMMARY:Wine Tasting Class- Island vs. Inland Wines
DESCRIPTION:Taste through 6 flights of exciting summer wines\, exploring differences in island versus inland bottlings from around the world. This interactive and super fun class is led by Chicago sommelier Ellen Fox. Discover your favorite wine style to drink with the foods found on MDI\, while surrounded by island-inspired artwork in a gallery setting. All levels from sippers to sommeliers are welcome!
X-ALT-DESC;FMTTYPE=text/html:Taste through 6 flights of exciting summer wines\, exploring differences in island versus inland bottlings from around the world. This interactive and super fun class is led by Chicago sommelier Ellen Fox. Discover your favorite wine style to drink with the foods found on MDI\, while surrounded by island-inspired artwork in a gallery setting. All levels from sippers to sommeliers are welcome!
LOCATION:Quietside Gallery 35 Bernard Road (on way to Thurston's)
UID:e.3061.14281
SEQUENCE:3
DTSTAMP:20260419T211602Z
URL:https://www.visitbarharbor.com/events/details/wine-tasting-class-island-vs-inland-wines-14281
END:VEVENT

END:VCALENDAR
