BEGIN:VCALENDAR
VERSION:2.0
PRODID:-//ChamberMaster//Event Calendar 2.0//EN
METHOD:PUBLISH
X-PUBLISHED-TTL:P3D
REFRESH-INTERVAL:P3D
CALSCALE:GREGORIAN
BEGIN:VEVENT
DTSTART:20190912T210000Z
DTEND:20190912T230000Z
X-MICROSOFT-CDO-ALLDAYEVENT:FALSE
SUMMARY:Wine Camp Tasting Class
DESCRIPTION:Join Chicago sommelier Ellen Fox for a fun and interactive tasting of wines from around the globe. Debunk the most commonly held myths and reveal your true wine preferences. Sippers to sommeliers- all levels are welcome! Seats are limited and sell out quickly! Call to reserve a spot. 847-525-0387
X-ALT-DESC;FMTTYPE=text/html:Join Chicago sommelier Ellen Fox for a fun and interactive tasting of wines from around the globe. Debunk the most commonly held myths and reveal your true wine preferences. Sippers to sommeliers- all levels are welcome! Seats are limited and sell out quickly! Call to reserve a spot. <span class="gc-cs-link" id="gc-number-0" title="Call with Google Voice">847-525-0387</span>
LOCATION:QuietSide Gallery 35 Bernard Road Bernard
UID:e.3061.14615
SEQUENCE:3
DTSTAMP:20260419T172956Z
URL:https://www.visitbarharbor.com/events/details/wine-camp-tasting-class-14615
END:VEVENT

END:VCALENDAR
