BEGIN:VCALENDAR
VERSION:2.0
PRODID:-//ChamberMaster//Event Calendar 2.0//EN
METHOD:PUBLISH
X-PUBLISHED-TTL:P3D
REFRESH-INTERVAL:P3D
CALSCALE:GREGORIAN
BEGIN:VEVENT
DTSTART:20190209T000000Z
DTEND:20190209T020000Z
X-MICROSOFT-CDO-ALLDAYEVENT:FALSE
SUMMARY:Wild and Scenic Film Festival
DESCRIPTION:Join College of the Atlantic for two hours of films filled with front line environmental activism\, ecological adventure\, and stunning cinematography hosted by the COA Student Activities Committee.
X-ALT-DESC;FMTTYPE=text/html:Join College of the Atlantic for two hours of films filled with front line environmental activism\, ecological adventure\, and stunning cinematography hosted by the COA Student Activities Committee.
LOCATION:College of the Atlantic 105 Eden St. Bar Harbor\, ME 04609
UID:e.3061.4879
SEQUENCE:3
DTSTAMP:20260420T082027Z
URL:https://www.visitbarharbor.com/events/details/wild-and-scenic-film-festival-4879
END:VEVENT

END:VCALENDAR
