BEGIN:VCALENDAR
VERSION:2.0
PRODID:-//ChamberMaster//Event Calendar 2.0//EN
METHOD:PUBLISH
X-PUBLISHED-TTL:P3D
REFRESH-INTERVAL:P3D
CALSCALE:GREGORIAN
BEGIN:VEVENT
DTSTART:20180512T140000Z
DTEND:20180512T200000Z
X-MICROSOFT-CDO-ALLDAYEVENT:FALSE
SUMMARY:Whittle-a-Warbler
DESCRIPTION:Carve and paint a Yellow-rumped Warbler (Myrtle) during this one day carving workshop. Ideal for beginning and intermediate carvers\; children 11 and up may attend with an adult. Carver Steve Valleau will provide a roughed-out basswood blank and all needed tools and materials to complete this warbler. Space is limited\, pre-registration is required.\n\n\n\nRegister by calling the museum 207-244-7555\n\nFee: $25 Museum members / $30 non-members
X-ALT-DESC;FMTTYPE=text/html:<span style="color:rgb(75\, 79\, 86)\; font-family:helvetica\,arial\,sans-serif\; font-size:14px">Carve and paint a Yellow-rumped Warbler (Myrtle) during this one day carving workshop. Ideal for beginning and intermediate carvers\; children 11 and up may attend with an adult. Carver Steve Valleau will provide a roughed-out basswood blank and all needed tools and materials to complete this warbler. Space is limited\, pre-registration is required.</span><br />\n<br />\n<span style="color:rgb(75\, 79\, 86)\; font-family:helvetica\,arial\,sans-serif\; font-size:14px">Register by calling the museum 207-244-7555</span><br />\n<span style="color:rgb(75\, 79\, 86)\; font-family:helvetica\,arial\,sans-serif\; font-size:14px">Fee: $25 Museum members / $30 non-members</span>
LOCATION:Wendell Gilley Museum 4 Herrick Rd Southwest Harbor ME 04679
UID:e.3061.879
SEQUENCE:3
DTSTAMP:20260420T213615Z
URL:https://www.visitbarharbor.com/events/details/whittle-a-warbler-879
END:VEVENT

END:VCALENDAR
