BEGIN:VCALENDAR
VERSION:2.0
PRODID:-//ChamberMaster//Event Calendar 2.0//EN
METHOD:PUBLISH
X-PUBLISHED-TTL:P3D
REFRESH-INTERVAL:P3D
CALSCALE:GREGORIAN
BEGIN:VEVENT
DTSTART:20180523T230000Z
DTEND:20180524T000000Z
X-MICROSOFT-CDO-ALLDAYEVENT:FALSE
SUMMARY:Where the Wild Things Are (And What to Do When You Find Them)
DESCRIPTION:The Jesup Memorial Library is hosting a wide-ranging series of presentations about food   how to grow it\, find it\, cook it and even make a business out of it. Join Terry Anya Hayes\, an herbalist and wild food educator for more than thirty years\, on Wednesday\, May 23 at 7 p.m. for a talk about foraging and what to do with the wild edibles you can find. Her presentation\, "Where the Wild Things Are (And What to Do When You Find Them)" will teach attendees where to find and how to harvest roots\, shoots\, leaves\, flowers and fungi as well as how to add them to meals and use them to relieve some of the minor bumps and bruises of life.\n\n \n\nHayes leads walks\, workshops\, and foraging weekends throughout the Northeast and beyond.  She is a writer\, herbalist\, wild foods educator and a past president of the New York Mycological Society. For more information on the talks contact the Jesup at 207-288-4245 or mrice@jesuplibrary.org.
X-ALT-DESC;FMTTYPE=text/html:<span style="font-family:times new roman\,serif"><span style="font-size:14.0pt">The Jesup Memorial Library is hosting a wide-ranging series of presentations about food &ndash\; how to grow it\, find it\, cook it and even make a business out of it. Join Terry Anya Hayes\, an herbalist and wild food educator for more than thirty years\, on Wednesday\, May 23 at 7 p.m. for a talk about foraging and what to do with the wild edibles you can find. Her presentation\, &ldquo\;Where the Wild Things Are (And What to Do When You Find Them)&quot\; will teach attendees where to find and how to harvest roots\, shoots\, leaves\, flowers and fungi as well as how to add them to meals and use them to relieve some of the minor bumps and bruises of life.</span></span><br />\n&nbsp\;<br />\n<span style="font-family:times new roman\,serif"><span style="font-size:14.0pt">Hayes leads walks\, workshops\, and foraging weekends throughout the Northeast and beyond.&nbsp\; She is a writer\, herbalist\, wild foods educator and a past president of the New York Mycological Society. For more information on the talks contact the Jesup at 207-288-4245 or </span></span><a href="mailto:mrice@jesuplibrary.org"><span style="font-family:times new roman\,serif"><span style="font-size:14.0pt">mrice@jesuplibrary.org</span></span></a><span style="font-family:times new roman\,serif"><span style="font-size:14.0pt">. </span></span><br />\n&nbsp\;
LOCATION:Jesup Memorial Library\, 34 Mt. Desert St.\, Bar Harbor\, ME 04609
UID:e.3061.2527
SEQUENCE:3
DTSTAMP:20260420T233422Z
URL:https://www.visitbarharbor.com/events/details/where-the-wild-things-are-and-what-to-do-when-you-find-them-2527
END:VEVENT

END:VCALENDAR
