BEGIN:VCALENDAR
VERSION:2.0
PRODID:-//ChamberMaster//Event Calendar 2.0//EN
METHOD:PUBLISH
X-PUBLISHED-TTL:P3D
REFRESH-INTERVAL:P3D
CALSCALE:GREGORIAN
BEGIN:VEVENT
DTSTART:20180523T113000Z
DTEND:20180523T133000Z
X-MICROSOFT-CDO-ALLDAYEVENT:FALSE
SUMMARY:What Do the New Tax Cuts Mean to You and Your Business?
DESCRIPTION:Machias Savings Bank will be hosting a workshop for business owners to help them reach a better understanding of the 2018 tax changes and how those changes might affect their business. \n\n\n\nGuest Panel:\n\n	Annette Gould\, CPA\n	\n		Horton\, McFarland & Veysey\n	\n	\n	Elise Frank\, Financial Advisor\n	\n		Edward Jones\n	\n	\n	Ron Wrobel\, CPA\n	\n		Coston & McIsaac
X-ALT-DESC;FMTTYPE=text/html:<span style="font-family:tahoma"><span style="font-size:14px"><strong>Machias Savings Bank will be hosting a workshop for business owners to help them reach a better understanding of the 2018 tax changes and how those changes&nbsp\;might affect their business. </strong></span></span><br />\n<br />\n<span style="font-family:tahoma"><u>Guest Panel:</u></span>\n<ul>\n	<li><span style="font-family:tahoma">Annette Gould\, CPA</span>\n	<ul>\n		<li><span style="font-family:tahoma">Horton\, McFarland &amp\; Veysey</span></li>\n	</ul>\n	</li>\n	<li><span style="font-family:tahoma">Elise Frank\, Financial Advisor</span>\n	<ul>\n		<li><span style="font-family:tahoma">Edward Jones</span></li>\n	</ul>\n	</li>\n	<li><span style="font-family:tahoma">Ron Wrobel\, CPA</span>\n	<ul>\n		<li><span style="font-family:tahoma">Coston &amp\; McIsaac</span></li>\n	</ul>\n	</li>\n</ul>\n
LOCATION:Ramada Inn\, 215 High St\, Ellsworth Maine
UID:e.3061.2150
SEQUENCE:3
DTSTAMP:20260420T233502Z
URL:https://www.visitbarharbor.com/events/details/what-do-the-new-tax-cuts-mean-to-you-and-your-business-2150
END:VEVENT

END:VCALENDAR
