BEGIN:VCALENDAR
VERSION:2.0
PRODID:-//ChamberMaster//Event Calendar 2.0//EN
METHOD:PUBLISH
X-PUBLISHED-TTL:P3D
REFRESH-INTERVAL:P3D
CALSCALE:GREGORIAN
BEGIN:VEVENT
DTSTART:20180630T140000Z
DTEND:20180630T190000Z
X-MICROSOFT-CDO-ALLDAYEVENT:FALSE
SUMMARY:Wet Felting with fiber artist Melissa Mattes
DESCRIPTION:Come for a fun day exploring the art of wet felting and pre-felting wool paintings with fiber artist Melissa Mattes.  In addition to learning the technique of wet felting\, you will learn how to pre-felt the wool (layering wool and felting solid colors) to cut and use to construct colorful wool felt paintings.  Felting will be done using very hot water. Geared for age 15 and up\, the wet felting process requires standing for a large portion of the class\, using both hands/arms to roll the felted piece.  Be ready to create beautiful paintings using soft\, colorful wool!  The cost is $75 for Woodlawn members/$85 for non-members and includes all materials.  Please bring 3 or 4 large old towels.  Space is limited and pre-registration is required.
X-ALT-DESC;FMTTYPE=text/html:Come for a fun day exploring the art of wet felting and pre-felting wool paintings with fiber artist&nbsp\;<a href="http://Crowswool.wordpress.com"><strong>Melissa Mattes</strong></a>.&nbsp\;&nbsp\;In addition to learning the technique of wet felting\, you will learn how to pre-felt the wool (layering wool and felting solid colors) to cut and use to construct colorful wool felt paintings.&nbsp\;&nbsp\;Felting will be done using very hot water. Geared for age 15 and up\, the wet felting process requires standing for a large portion of the class\, using both hands/arms to roll the felted piece.&nbsp\;&nbsp\;Be ready to create beautiful paintings using soft\, colorful wool!&nbsp\;&nbsp\;The cost is $75 for Woodlawn members/$85 for non-members and includes all materials.&nbsp\;&nbsp\;Please bring 3 or 4 large old towels.&nbsp\;<strong>&nbsp\;Space is limited and <a href="https://woodlawnmuseum.com/event/wet-felting-with-fiber-artist-melissa-mattes/">pre-registration is required.</a></strong>
LOCATION:Woodlawn Museum\, 19 Black House Drive\, Ellsworth\, ME 04605
UID:e.3061.2189
SEQUENCE:3
DTSTAMP:20260420T200533Z
URL:https://www.visitbarharbor.com/events/details/wet-felting-with-fiber-artist-melissa-mattes-2189
END:VEVENT

END:VCALENDAR
