BEGIN:VCALENDAR
VERSION:2.0
PRODID:-//ChamberMaster//Event Calendar 2.0//EN
METHOD:PUBLISH
X-PUBLISHED-TTL:P3D
REFRESH-INTERVAL:P3D
CALSCALE:GREGORIAN
BEGIN:VEVENT
DTSTART:20181007T210000Z
DTEND:20181007T230000Z
X-MICROSOFT-CDO-ALLDAYEVENT:FALSE
SUMMARY:Wendell Gilley Cocktail Party
DESCRIPTION:Join us for refreshments and good conversation at the Wendell Gilley Museum's cocktail party! A great chance to take a last look at our special exhibition\, Earth\, Sea\, Sky\, featuring Barbara Ernst Prey's unique watercolors and oil paintings.
X-ALT-DESC;FMTTYPE=text/html:Join us for refreshments and good conversation at the Wendell Gilley Museum&#39\;s cocktail party! A great chance to take a last look at our special exhibition\, Earth\, Sea\, Sky\, featuring Barbara Ernst Prey&#39\;s unique watercolors and oil paintings.
LOCATION:Wendell Gilley Museum 4 Herrick Rd Southwest Harbor\, ME 04679
UID:e.3061.3528
SEQUENCE:3
DTSTAMP:20260420T132049Z
URL:https://www.visitbarharbor.com/events/details/wendell-gilley-cocktail-party-3528
END:VEVENT

END:VCALENDAR
