BEGIN:VCALENDAR
VERSION:2.0
PRODID:-//ChamberMaster//Event Calendar 2.0//EN
METHOD:PUBLISH
X-PUBLISHED-TTL:P3D
REFRESH-INTERVAL:P3D
CALSCALE:GREGORIAN
BEGIN:VEVENT
DTSTART:20181023T201000Z
DTEND:20181023T213000Z
X-MICROSOFT-CDO-ALLDAYEVENT:FALSE
SUMMARY:Ways Of Learning: An Apprentice Boat Builder in Japan
DESCRIPTION:Douglas Brooks reviews nearly three decades apprenticing with traditional Japanese boat builders at the College of the Atlantic Human Ecology Forum.
X-ALT-DESC;FMTTYPE=text/html:Douglas Brooks reviews nearly three decades apprenticing with traditional Japanese boat builders at the College of the Atlantic Human Ecology Forum.
LOCATION:College of the Atlantic McCormick Lecture Hall
UID:e.3061.3962
SEQUENCE:3
DTSTAMP:20260420T150121Z
URL:https://www.visitbarharbor.com/events/details/ways-of-learning-an-apprentice-boat-builder-in-japan-3962
END:VEVENT

END:VCALENDAR
