BEGIN:VCALENDAR
VERSION:2.0
PRODID:-//ChamberMaster//Event Calendar 2.0//EN
METHOD:PUBLISH
X-PUBLISHED-TTL:P3D
REFRESH-INTERVAL:P3D
CALSCALE:GREGORIAN
BEGIN:VEVENT
DTSTART:20181212T230000Z
DTEND:20181213T010000Z
X-MICROSOFT-CDO-ALLDAYEVENT:FALSE
SUMMARY:Wax Hand Craft with ArtWaves
DESCRIPTION:Kids\, families\, and people of all ages can create their own wax hand candle holder at a special intergenerational craft time at the Jesup Memorial Library on Wednesday\, Dec. 12 at 6 p.m. Join Liz Cutler\, of ArtWaves\, who will show you how to create this unique and personal piece of art. \n\n \n\nEach participant will dip their hand in warm beeswax while holding a candle. Then you dip your hand in a few more times\, encasing your hand and creating a candleholder. After a few snips you have a cool piece of art that you can keep or give as a gift.\n\n \n\nThis event is free and open to the public. This is part of a series of events with ArtWaves and the Jesup. There will also be a botanical Sip 'n' Print on Friday\, Jan. 11 at 7 p.m. and an intergenerational glass mosaic craft on Wednesday\, Feb. 6 at 6 p.m. For more information about this event contact the Jesup at 207-288-4245 and for information on ArtWaves visit artwavesmdi.org.
X-ALT-DESC;FMTTYPE=text/html:<span style="font-family:times new roman\,serif"><span style="font-size:14.0pt">Kids\, families\, and people of all ages can create their own wax hand candle holder at a special intergenerational craft time at the Jesup Memorial Library on Wednesday\, Dec. 12 at 6 p.m. Join Liz Cutler\, of ArtWaves\, who will show you how to create this unique and personal piece of art. </span></span><br />\n&nbsp\;<br />\n<span style="font-family:times new roman\,serif"><span style="font-size:14.0pt">Each participant will dip their hand in warm beeswax while holding a candle. Then you dip your hand in a few more times\, encasing your hand and creating a candleholder. After a few snips you have a cool piece of art that you can keep or give as a gift.</span></span><br />\n&nbsp\;<br />\n<span style="font-family:times new roman\,serif"><span style="font-size:14.0pt">This event is free and open to the public. This is part of a series of events with ArtWaves and the Jesup. There will also be a botanical Sip &lsquo\;n&rsquo\; Print on Friday\, Jan. 11 at 7 p.m. and an intergenerational glass mosaic craft on Wednesday\, Feb. 6 at 6 p.m. For more information about this event contact the Jesup at 207-288-4245 and for information on ArtWaves visit artwavesmdi.org.</span></span>
LOCATION:Jesup Memorial Library\, 34 Mt. Desert St.\, Bar Harbor\, ME 04609
UID:e.3061.4729
SEQUENCE:3
DTSTAMP:20260420T095912Z
URL:https://www.visitbarharbor.com/events/details/wax-hand-craft-with-artwaves-4729
END:VEVENT

END:VCALENDAR
