BEGIN:VCALENDAR
VERSION:2.0
PRODID:-//ChamberMaster//Event Calendar 2.0//EN
METHOD:PUBLISH
X-PUBLISHED-TTL:P3D
REFRESH-INTERVAL:P3D
CALSCALE:GREGORIAN
BEGIN:VEVENT
DTSTART:20180724T133000Z
DTEND:20180724T160000Z
X-MICROSOFT-CDO-ALLDAYEVENT:FALSE
SUMMARY:Wax Batik Workshop
DESCRIPTION:Working with ink\, wax. and watercolor on delicate rice paper\, students will learn and practice the techniques of painting in batik style. No experience is required. Every skill level will be successful. This is a no-fail\, make and take workshop with guidance from an experienced artist and teacher (Gloria Avner)\, every step along the way. You will go home with one lovely batik painting\, a subject of your own choosing\, matted and ready for framing\, and will have the time and opportunity to begin a second. My students are always amazed at their outcomes\, and as they tell me\, time after time (some like to take it repeatedly) this workshop is a lot of fun.
X-ALT-DESC;FMTTYPE=text/html:<span style="color:rgb(46\, 46\, 46)\; font-family:open sans\,sans-serif\; font-size:15px">Working with ink\, wax. and watercolor on delicate rice paper\, students will learn and practice the techniques of painting in batik style. No experience is required. Every skill level will be successful. This is a no-fail\, make and take workshop with guidance from an experienced artist and teacher (Gloria Avner)\, every step along the way. You will go home with one lovely batik painting\, a subject of your own choosing\, matted and ready for framing\, and will have the time and opportunity to begin a second. My students are always amazed at their outcomes\, and as they tell me\, time after time (some like to take it repeatedly) this workshop is a lot of fun.</span>
LOCATION:
UID:e.3061.2970
SEQUENCE:3
DTSTAMP:20260420T182336Z
URL:https://www.visitbarharbor.com/events/details/wax-batik-workshop-07-24-2018-2970
END:VEVENT

END:VCALENDAR
