BEGIN:VCALENDAR
VERSION:2.0
PRODID:-//ChamberMaster//Event Calendar 2.0//EN
METHOD:PUBLISH
X-PUBLISHED-TTL:P3D
REFRESH-INTERVAL:P3D
CALSCALE:GREGORIAN
BEGIN:VEVENT
DTSTART:20190131T000000Z
DTEND:20190131T010000Z
X-MICROSOFT-CDO-ALLDAYEVENT:FALSE
SUMMARY:Washington and Augusta: What’s New?
DESCRIPTION:Both the United States Congress and the Maine State Legislature have recently sworn in new members. So what does this mean for the upcoming year? Join Fred Benson and Jill Goldthwait at the Jesup Memorial Library on Wednesday\, Jan. 30 at 7 p.m. as they share their thoughts on the state and federal issues and actions expected to happen. They will touch on how the mid-term elections have shaped both political bodies and will focus on some of the big issues in both the legislature and in Congress. They will also endeavor to answer the question of whether partisanship during this term will get better or worse. \n\n \n\nBenson has been engaged in national and international government affairs activities in the White House\, the Pentagon and with the Weyerhaeuser Company. He also served in the United States Army with responsibilities including senior positions in the offices of the Secretary of Defense and the Secretary of the Army\, as well as aviation and ground command assignments in Korea\, Vietnam and Alaska. He retired as a full Colonel having served two combat tours during which he was awarded two Distinguished Flying Crosses and the Bronze Star Medal for Valor. He was selected as a White House Fellow and subsequently served as a member of the President's Commission on White House Fellowships under Presidents George H.W. Bush and Bill Clinton. In 2007\, Queen Elizabeth appointed him a member of the New Zealand Order of Merit (NZOM) in recognition of his contribution to enhancing the political and business relationships between The US and New Zealand. He currently publishes Capitol Commentary\, an independent political newsletter.\n\n \n\nGoldthwait was elected to the Bar Harbor Town Council for nine years\, serving as chairman for eight. She was elected to four terms as an Independent in the Maine Senate from 1994 to 2002. She was Director of Government Relations at The Jackson Laboratory for nine years\, retiring in 2012.  Currently she is an award-winning political columnist for the Ellsworth American and the Mount Desert Islander.\n\n\n\nFor more information on the talk contact the Jesup at 207-288-4245.
X-ALT-DESC;FMTTYPE=text/html:<span style="font-family:times new roman\,serif"><span style="font-size:14.0pt">Both the United States Congress and the Maine State Legislature have recently sworn in new members. So what does this mean for the upcoming year? Join Fred Benson and Jill Goldthwait at the Jesup Memorial Library on Wednesday\, Jan. 30 at 7 p.m. as they share their thoughts on the state and federal issues and actions expected to happen. They will touch on how the mid-term elections have shaped both political bodies and will focus on some of the big issues in both the legislature and in Congress. They will also endeavor to answer the question of whether partisanship during this term will get better or worse. </span></span><br />\n&nbsp\;<br />\n<span style="font-family:times new roman\,serif"><span style="font-size:14.0pt">Benson has been engaged in national and international government affairs activities in the White House\, the Pentagon and with the Weyerhaeuser Company. He also served in the United States Army with responsibilities including senior positions in the offices of the Secretary of Defense and the Secretary of the Army\, as well as aviation and ground command assignments in Korea\, Vietnam and Alaska. He retired as a full Colonel having served two combat tours during which he was awarded two Distinguished Flying Crosses and the Bronze Star Medal for Valor. He was selected as a White House Fellow and subsequently served as a member of the President&rsquo\;s Commission on White House Fellowships under Presidents George H.W. Bush and Bill Clinton. In 2007\, Queen Elizabeth appointed him a member of the New Zealand Order of Merit (NZOM) in recognition of his contribution to enhancing the political and business relationships between The US and New Zealand. He currently publishes <em>Capitol Commentary</em>\, an independent political newsletter.</span></span><br />\n&nbsp\;<br />\n<span style="font-family:times new roman\,serif"><span style="font-size:14.0pt">Goldthwait was elected to the Bar Harbor Town Council for nine years\, serving as chairman for eight. She was elected to four terms as an Independent in the Maine Senate from 1994 to 2002. She was Director of Government Relations at The Jackson Laboratory for nine years\, retiring in 2012.&nbsp\; Currently she is an award-winning political columnist for the <em>Ellsworth American</em> and the <em>Mount Desert Islander.</em><br />\n<br />\nFor more information on the talk contact the Jesup at 207-288-4245.&nbsp\;</span></span><br />\n&nbsp\;
LOCATION:Jesup Memorial Library\, 34 Mt. Desert St.\, Bar Harbor\, ME 04609
UID:e.3061.4897
SEQUENCE:3
DTSTAMP:20260420T081610Z
URL:https://www.visitbarharbor.com/events/details/washington-and-augusta-what-s-new-4897
END:VEVENT

END:VCALENDAR
