BEGIN:VCALENDAR
VERSION:2.0
PRODID:-//ChamberMaster//Event Calendar 2.0//EN
METHOD:PUBLISH
X-PUBLISHED-TTL:P3D
REFRESH-INTERVAL:P3D
CALSCALE:GREGORIAN
BEGIN:VEVENT
DTSTART:20190902T210000Z
DTEND:20190902T223000Z
X-MICROSOFT-CDO-ALLDAYEVENT:FALSE
SUMMARY:Wabanaki Spirit Walk
DESCRIPTION:Walk the Spirit Road with a professional Wabanaki guide on a journey through Bar Harbor like no other!  Visit the sites of former Wabanaki Indigenous encampments and hear ancient supernatural stories of cannibal spirits\, terrible monsters\, and vengeful witches that have been passed down through thousands of generations.  Learn about the helpful spirits who watch over sailors and have kept many a boat from sinking.  Find out why you should never enter the woods alone after dark and why you should refrain from saying bad things about the Stone Spirits.  This tour will expose you to both the paranormal good and evil of Wabanaki cultures that make up this land. Listen while your guide regales you with tribal histories and contemporary hauntings.  Make no mistake\, many of these spirits are still here and they are waiting for you.\n\nOn a typical tour you will:\n\n\n	\n	Hear Wabanaki stories only\n	\n	\n	Visit the sites of former 1860s-1890s Indigenous encampments\n	\n	\n	Learn tour-specific words/phrases in various Wabanaki languages\n	\n	\n	Children will delight to the mysteries in the guide's storytelling basket\n	\n\n\nReservations are highly recommended as tours can sell out fast.\n\nWe limit the number of guests on each tour.\n\nTicket availability is not guaranteed if you do not purchase your spot in advance.\n\n?
X-ALT-DESC;FMTTYPE=text/html:<p>Walk the Spirit Road with a professional Wabanaki guide on a journey through Bar Harbor like no other!&nbsp\; Visit the sites of&nbsp\;former Wabanaki Indigenous encampments and hear ancient supernatural stories of cannibal spirits\, terrible monsters\, and vengeful witches that have been passed down through thousands of generations. &nbsp\;Learn about the helpful spirits who watch over sailors and have kept many a boat from sinking.&nbsp\; Find out why you should never enter the woods alone after dark and why you should refrain from saying bad things about the Stone Spirits.&nbsp\; This tour will expose you to both the paranormal good and evil of Wabanaki cultures that make up this land. Listen while your guide regales you with tribal histories and contemporary hauntings. &nbsp\;Make no mistake\, many of these spirits are still here&hellip\;and they are waiting for you.</p>\n\n<p>On a typical tour you will:</p>\n\n<ul>\n	<li>\n	<p>Hear Wabanaki stories only</p>\n	</li>\n	<li>\n	<p>Visit the sites of former 1860s-1890s Indigenous encampments</p>\n	</li>\n	<li>\n	<p>Learn tour-specific words/phrases in various Wabanaki languages</p>\n	</li>\n	<li>\n	<p>Children will delight to the mysteries in the guide&#39\;s storytelling basket</p>\n	</li>\n</ul>\n\n<p><strong>Reservations are highly recommended as tours can sell out fast.</strong></p>\n\n<p>We limit the number of guests on each tour.</p>\n\n<p>Ticket availability is not guaranteed if you do not purchase your spot in advance.</p>\n\n<p>?</p>\n
LOCATION:Tour leaves from the Abbe Museum Courtyard at 26 Mount Desert Street promptly at 5pm
UID:e.3061.8686
SEQUENCE:3
DTSTAMP:20260419T231239Z
URL:https://www.visitbarharbor.com/events/details/wabanaki-spirit-walk-09-02-2019-8686
END:VEVENT

END:VCALENDAR
