BEGIN:VCALENDAR
VERSION:2.0
PRODID:-//ChamberMaster//Event Calendar 2.0//EN
METHOD:PUBLISH
X-PUBLISHED-TTL:P3D
REFRESH-INTERVAL:P3D
CALSCALE:GREGORIAN
BEGIN:VEVENT
DTSTART:20190814T130000Z
DTEND:20190814T200000Z
X-MICROSOFT-CDO-ALLDAYEVENT:FALSE
SUMMARY:Visual Arts Children’s Week
DESCRIPTION:Make drawings\, paintings\, origami\, embroidery\, beadwork\, and water marbling with Paige LeDuc. Suggested for ages 8-14.
X-ALT-DESC;FMTTYPE=text/html:Make drawings\, paintings\, origami\, embroidery\, beadwork\, and water marbling with Paige LeDuc.&nbsp\;Suggested for ages 8-14.&nbsp\;
LOCATION:ArtWaves\, 1345-A State Highway 102\, Bar Harbor.
UID:e.3061.14427
SEQUENCE:3
DTSTAMP:20260419T192320Z
URL:https://www.visitbarharbor.com/events/details/visual-arts-children-s-week-08-14-2019-14427
END:VEVENT

END:VCALENDAR
