BEGIN:VCALENDAR
VERSION:2.0
PRODID:-//ChamberMaster//Event Calendar 2.0//EN
METHOD:PUBLISH
X-PUBLISHED-TTL:P3D
REFRESH-INTERVAL:P3D
CALSCALE:GREGORIAN
BEGIN:VEVENT
DTSTART:20180615T230000Z
DTEND:20180616T000000Z
X-MICROSOFT-CDO-ALLDAYEVENT:FALSE
SUMMARY:Verse Unleashed! Poetry Slam
DESCRIPTION:Haiku\, free verse\, sonnet or ode\, come share your poetry or a piece of poetry that inspires you at the Jesup Memorial Library's next Verse Unleashed! Poetry Slam on Friday\, June 15 at 7 p.m. Unlike traditional slams\, the Jesup's slam is about community and camaraderie not competition. \n\n \n\nFor more information\, contact the Jesup at 207-288-4245 or mrice@jesuplibrary.org.
X-ALT-DESC;FMTTYPE=text/html:<span style="font-family:times new roman\,serif"><span style="font-size:14.0pt">Haiku\, free verse\, sonnet or ode\, come share your poetry or a piece of poetry that inspires you at the Jesup Memorial Library&rsquo\;s next Verse Unleashed! Poetry Slam on Friday\, June 15 at 7 p.m. Unlike traditional slams\, the Jesup&rsquo\;s slam is about community and camaraderie not competition. </span></span><br />\n&nbsp\;<br />\n<span style="font-family:times new roman\,serif"><span style="font-size:14.0pt">For more information\, contact the Jesup at 207-288-4245 or </span></span><a href="mailto:mrice@jesuplibrary.org"><span style="font-family:times new roman\,serif"><span style="font-size:14.0pt">mrice@jesuplibrary.org</span></span></a><span style="font-family:times new roman\,serif"><span style="font-size:14.0pt">.</span></span>
LOCATION:Jesup Memorial Library\, 34 Mt. Desert St.\, Bar Harbor\, ME 04609
UID:e.3061.2831
SEQUENCE:3
DTSTAMP:20260420T195546Z
URL:https://www.visitbarharbor.com/events/details/verse-unleashed-poetry-slam-2831
END:VEVENT

END:VCALENDAR
