BEGIN:VCALENDAR
VERSION:2.0
PRODID:-//ChamberMaster//Event Calendar 2.0//EN
METHOD:PUBLISH
X-PUBLISHED-TTL:P3D
REFRESH-INTERVAL:P3D
CALSCALE:GREGORIAN
BEGIN:VEVENT
DTSTART:20181222T000000Z
DTEND:20181222T010000Z
X-MICROSOFT-CDO-ALLDAYEVENT:FALSE
SUMMARY:Verse Unleashed! Poetry Slam
DESCRIPTION:Share your poetry or a piece that inspires you at the next Verse Unleashed! Poetry Slam on Friday\, Dec. 21 at 7 p.m. at the Jesup Memorial Library. Whether it's a haiku\, free verse or sonnet\, come share your work. Unlike traditional slams\, the Jesup's poetry slam is all about community and comradery not competition. Bring your friends or family and share your poetry in a supportive atmosphere. \n\n \n\nFor more information contact the Jesup at 207-288-4245 or mrice@jesuplibrary.org.
X-ALT-DESC;FMTTYPE=text/html:<span style="font-family:times new roman\,serif"><span style="font-size:14.0pt">Share your poetry or a piece that inspires you at the next Verse Unleashed! Poetry Slam on Friday\, Dec. 21 at 7 p.m. at the Jesup Memorial Library. Whether it&rsquo\;s a haiku\, free verse or sonnet\, come share your work. Unlike traditional slams\, the Jesup&rsquo\;s poetry slam is all about community and comradery not competition. Bring your friends or family and share your poetry in a supportive atmosphere. </span></span><br />\n&nbsp\;<br />\n<span style="font-family:times new roman\,serif"><span style="font-size:14.0pt"><span>For more information contact the Jesup at <span class="gc-cs-link" id="gc-number-0" title="Call with Google Voice">207-288-4245</span> or </span><a href="mailto:mrice@jesuplibrary.org">mrice@jesuplibrary.org</a></span>. </span>
LOCATION:Jesup Memorial Library\, 34 Mt. Desert St.\, Bar Harbor\, ME 04609
UID:e.3061.4797
SEQUENCE:3
DTSTAMP:20260420T100229Z
URL:https://www.visitbarharbor.com/events/details/verse-unleashed-poetry-slam-12-21-2018-4797
END:VEVENT

END:VCALENDAR
