BEGIN:VCALENDAR
VERSION:2.0
PRODID:-//ChamberMaster//Event Calendar 2.0//EN
METHOD:PUBLISH
X-PUBLISHED-TTL:P3D
REFRESH-INTERVAL:P3D
CALSCALE:GREGORIAN
BEGIN:VEVENT
DTSTART:20181016T230000Z
DTEND:20181017T003000Z
X-MICROSOFT-CDO-ALLDAYEVENT:FALSE
SUMMARY:U.S. Air Force Concert: Heritage Brass
DESCRIPTION:The Heritage Brass of your United States Air Force Heritage of America Band presents a FREE concert at the Bar Harbor Congregational Church! The United States Air Force Heritage of America Band is proud to present Heritage Brass\, a pioneering symphonic brass ensemble. Bringing the military tradition of brass\, percussion\, and vocals to the concert stage\, Heritage Brass presents programs that are both exhilarating and intimate. Representing Air Force professionals serving across the globe\, Heritage Brass showcases the service's excellence and precision in every performance throughout the eastern seaboard\, from South Carolina to Maine. Comprised of ten brass players\, a percussionist\, and vocalist\, the ensemble maintains a rigorous performance schedule presenting a diverse repertoire featuring orchestral transcriptions\, patriotic favorites\, jazz standards\, new compositions and distinctive arrangements. Whether performing in a concert hall\, an educational venue\, a large sporting event\, or in support of a military function\, their innovative approach allows them to perform both as a large symphonic group and an intimate chamber ensemble.
X-ALT-DESC;FMTTYPE=text/html:The Heritage Brass of your United States Air Force Heritage of America Band presents a FREE concert at the Bar Harbor Congregational Church! The United States Air Force Heritage of America Band is proud to present Heritage Brass\, a pioneering symphonic brass ensemble. Bringing the military tradition of brass\, percussion\, and vocals to the concert stage\, Heritage Brass presents programs that are both exhilarating and intimate. Representing Air Force professionals serving across the globe\, Heritage Brass showcases the service&rsquo\;s excellence and precision in every performance throughout the eastern seaboard\, from South Carolina to Maine. Comprised of ten brass players\, a percussionist\, and vocalist\, the ensemble maintains a rigorous performance schedule presenting a diverse repertoire featuring orchestral transcriptions\, patriotic favorites\, jazz standards\, new compositions and distinctive arrangements. Whether performing in a concert hall\, an educational venue\, a large sporting event\, or in support of a military function\, their innovative approach allows them to perform both as a large symphonic group and an intimate chamber ensemble.
LOCATION:Bar Harbor Congregational Church
UID:e.3061.3854
SEQUENCE:3
DTSTAMP:20260420T132313Z
URL:https://www.visitbarharbor.com/events/details/u-s-air-force-concert-heritage-brass-3854
END:VEVENT

END:VCALENDAR
