BEGIN:VCALENDAR
VERSION:2.0
PRODID:-//ChamberMaster//Event Calendar 2.0//EN
METHOD:PUBLISH
X-PUBLISHED-TTL:P3D
REFRESH-INTERVAL:P3D
CALSCALE:GREGORIAN
BEGIN:VEVENT
DTSTART:20180727T230000Z
DTEND:20180728T000000Z
X-MICROSOFT-CDO-ALLDAYEVENT:FALSE
SUMMARY:Twentieth-Century American Yachting: A Perfect Blend of Art and Science
DESCRIPTION:Artist and sailor Thurston Huntting (Hunt) Smith spent his life on the water. As a child\, he was exposed to some of the greatest examples of American yacht design and surrounded by some of the finest yachtsmen\, sail makers and boat designers of the twentieth century. Join him for a pictorial exploration of yacht design and how it changed with the advent of the aviation field in the mid-1900s with Smith at the Jesup Memorial Library on Friday\, July 27 at 7 p.m. \n\n \n\nSmith's talk will feature historic photographs as well his paintings to show how the sailing yachts of this period are a perfect illustration of how form follows function. He will also highlight some of the boat builders of the 1940's\, '50s and '60s\, and talk about how new materials\, metals and fabrics\, and the enormous advancements in the field of aviation\, gave rise to dramatic changes in the yachting world. Smith will also speak about how photography allowed people to know what the maritime world actually looked like. Previously\, on-site painting of boats was practically impossible and early paintings were mostly works of the imagination.\n\n \n\nSmith grew up on a small island near Oyster Bay\, New York and says he knew how to sail before he knew how to ride a bicycle. His paintings cover the glory days of American yachting and various other maritime activities from Downeast Maine to the Bahamas. His work has been shown at the Mystic Seaport\, the Herreshoff Marine Museum\, the New York Yacht Club\, Florida's Society of the Four Arts\, and numerous private galleries. He now lives on the water in Steuben\, Maine.\n\n \n\nFor more information\, contact the Jesup at 207-288-4245 or mrice@jesuplibrary.org.
X-ALT-DESC;FMTTYPE=text/html:<span style="font-family:times new roman\,serif"><span style="font-size:14.0pt">Artist and sailor Thurston Huntting (Hunt) Smith spent his life on the water. As a child\, he was exposed to some of the greatest examples of American yacht design and surrounded by some of the finest yachtsmen\, sail makers and boat designers of the twentieth century. Join him for a pictorial exploration of yacht design and how it changed with the advent of the aviation field in the mid-1900s with Smith at the Jesup Memorial Library on Friday\, July 27 at 7 p.m. </span></span><br />\n&nbsp\;<br />\n<span style="font-family:times new roman\,serif"><span style="font-size:14.0pt">Smith&rsquo\;s talk will feature historic photographs as well his paintings to show how the sailing yachts of this period are a perfect illustration of how form follows function. He will also highlight some of the boat builders of the 1940&rsquo\;s\, &lsquo\;50s and &lsquo\;60s\, and talk about how new materials\, metals and fabrics\, and the enormous advancements in the field of aviation\, gave rise to dramatic changes in the yachting world. Smith will also speak about how photography allowed people to know what the maritime world actually looked like. Previously\, on-site painting of boats was practically impossible and early paintings were mostly works of the imagination.</span></span><br />\n&nbsp\;<br />\n<span style="font-family:times new roman\,serif"><span style="font-size:14.0pt">Smith grew up on a small island near Oyster Bay\, New York and says he knew how to sail before he knew how to ride a bicycle. His paintings cover the glory days of American yachting and various other maritime activities from Downeast Maine to the Bahamas. His work has been shown at the Mystic Seaport\, the Herreshoff Marine Museum\, the New York Yacht Club\, Florida&rsquo\;s Society of the Four Arts\, and numerous private galleries. He now lives on the water in Steuben\, Maine.</span></span><br />\n&nbsp\;<br />\n<span style="font-family:times new roman\,serif"><span style="font-size:14.0pt">For more information\, contact the Jesup at 207-288-4245 or <a href="mailto:mrice@jesuplibrary.org">mrice@jesuplibrary.org</a></span>.</span>
LOCATION:Jesup Memorial Library\, 34 Mt. Desert St.\, Bar Harbor\, ME 04609
UID:e.3061.3359
SEQUENCE:3
DTSTAMP:20260420T200516Z
URL:https://www.visitbarharbor.com/events/details/twentieth-century-american-yachting-a-perfect-blend-of-art-and-science-3359
END:VEVENT

END:VCALENDAR
