BEGIN:VCALENDAR
VERSION:2.0
PRODID:-//ChamberMaster//Event Calendar 2.0//EN
METHOD:PUBLISH
X-PUBLISHED-TTL:P3D
REFRESH-INTERVAL:P3D
CALSCALE:GREGORIAN
BEGIN:VEVENT
DTSTART:20190223T000000Z
DTEND:20190223T010000Z
X-MICROSOFT-CDO-ALLDAYEVENT:FALSE
SUMMARY:Tulip Time: Travel Talk and Slideshow
DESCRIPTION:Cruise Dutch and Belgian waterways with Bob and Sue Pennington at a talk and slideshow at the Jesup Memorial Library on Friday\, Feb. 22 at 7 p.m. The Penningtons visited Holland and Belgium to explore the country and they also visited during tulip season and will also share photos of these amazing fields of flowers.\n\n \n\nSome of the many places they visited include the cities of Amsterdam\, Volendam\, Edam\, Arnhem\, Willemstad\, Kinderdijk and Nijmegen as well as Het Loo Palace and Keukenhof Gardens in the Netherlands\, and Antwerp and Ghent in Belgium. The Penningtons will talk about the history\, art and architecture of the region both before World War II and how it changed in the following years. \n\n \n\nThe Penningtons are retired educators from the Philadelphia area and moved to Bar Harbor in 2002. Bob pursues his photography and water color hobbies. Sue sings with the Acadia Choral Society\, is a member of the Bar Harbor Garden Club and Acadia Senior College\, and cantors at Holy Redeemer Church.  \n\n \n\nFor more information about the event contact the Jesup at 207-288-4245 or mrice@jesuplibrary.org.
X-ALT-DESC;FMTTYPE=text/html:<span style="font-family:times new roman\,serif"><span style="font-size:14.0pt">Cruise Dutch and Belgian waterways with Bob and Sue Pennington at a talk and slideshow at the Jesup Memorial Library on Friday\, Feb. 22 at 7 p.m. The Penningtons visited Holland and Belgium to explore the country and they also visited during tulip season and will also share photos of these amazing fields of flowers.</span></span><br />\n&nbsp\;<br />\n<span style="font-family:times new roman\,serif"><span style="font-size:14.0pt">Some of the many places they visited include the cities of Amsterdam\, Volendam\, Edam\, Arnhem\, Willemstad\, Kinderdijk and Nijmegen as well as Het Loo Palace and Keukenhof Gardens in the Netherlands\, and Antwerp and Ghent in Belgium. The Penningtons will talk about the history\, art and architecture of the region both before World War II and how it changed in the following years. </span></span><br />\n&nbsp\;<br />\n<span style="font-family:times new roman\,serif"><span style="font-size:14.0pt">The Penningtons are retired educators from the Philadelphia area and moved to Bar Harbor in 2002. Bob pursues his photography and water color hobbies. Sue sings with the Acadia Choral Society\, is a member of the Bar Harbor Garden Club and Acadia Senior College\, and cantors at Holy Redeemer Church.&nbsp\; </span></span><br />\n&nbsp\;<br />\n<span style="font-family:times new roman\,serif"><span style="font-size:14.0pt">For more information about the event contact the Jesup at 207-288-4245 or <a href="mailto:mrice@jesuplibrary.org">mrice@jesuplibrary.org</a></span>. </span>
LOCATION:Jesup Memorial Library\, 34 Mt. Desert St.\, Bar Harbor\, ME 04609
UID:e.3061.5116
SEQUENCE:3
DTSTAMP:20260420T081629Z
URL:https://www.visitbarharbor.com/events/details/tulip-time-travel-talk-and-slideshow-5116
END:VEVENT

END:VCALENDAR
