BEGIN:VCALENDAR
VERSION:2.0
PRODID:-//ChamberMaster//Event Calendar 2.0//EN
METHOD:PUBLISH
X-PUBLISHED-TTL:P3D
REFRESH-INTERVAL:P3D
CALSCALE:GREGORIAN
BEGIN:VEVENT
DTSTART:20190112T183000Z
DTEND:20190112T200000Z
X-MICROSOFT-CDO-ALLDAYEVENT:FALSE
SUMMARY:Trouble in Chinese Waters?
DESCRIPTION:Professor Vekasi of the University of Maine will speak on how Chinese domestic politics and American national interests have set a course for potential conflict over the South China Sea. The talk will unpack the complex political and economics conflicts in the region\, and discuss policy options to deescalate military tensions and increase peaceful cooperation. For more information\, please call the Library\, 244-7065.
X-ALT-DESC;FMTTYPE=text/html:Professor Vekasi of the University of Maine will speak on how Chinese domestic politics and American national interests have set a course for potential conflict over the South China Sea. The talk will unpack the complex political and economics conflicts in the region\, and discuss policy options to deescalate military tensions and increase peaceful cooperation. For more information\, please call the Library\, 244-7065.
LOCATION:Southwest Harbor Public Library
UID:e.3061.4827
SEQUENCE:3
DTSTAMP:20260420T081505Z
URL:https://www.visitbarharbor.com/events/details/trouble-in-chinese-waters-4827
END:VEVENT

END:VCALENDAR
