BEGIN:VCALENDAR
VERSION:2.0
PRODID:-//ChamberMaster//Event Calendar 2.0//EN
METHOD:PUBLISH
X-PUBLISHED-TTL:P3D
REFRESH-INTERVAL:P3D
CALSCALE:GREGORIAN
BEGIN:VEVENT
DTSTART:20190918T010000Z
DTEND:20190918T033000Z
X-MICROSOFT-CDO-ALLDAYEVENT:FALSE
SUMMARY:Trivia Tuesday at Bar Harbor BeerWorks
DESCRIPTION:Join Bryce Lambert every Tuesday night at 9 for Trivia! Teams of four can compete for great prizes while enjoying late night happy hour with nightly drink specials!
X-ALT-DESC;FMTTYPE=text/html:Join Bryce Lambert every Tuesday night at 9 for Trivia! Teams of four can compete for great prizes while enjoying late night happy hour with nightly drink specials!
LOCATION:119 Main St. Bar Harbor Me 04609
UID:e.3061.11662
SEQUENCE:3
DTSTAMP:20260419T212501Z
URL:https://www.visitbarharbor.com/events/details/trivia-tuesday-at-bar-harbor-beerworks-09-17-2019-11662
END:VEVENT

END:VCALENDAR
