BEGIN:VCALENDAR
VERSION:2.0
PRODID:-//ChamberMaster//Event Calendar 2.0//EN
METHOD:PUBLISH
X-PUBLISHED-TTL:P3D
REFRESH-INTERVAL:P3D
CALSCALE:GREGORIAN
BEGIN:VEVENT
DTSTART:20181031T210000Z
DTEND:20181031T230000Z
X-MICROSOFT-CDO-ALLDAYEVENT:FALSE
SUMMARY:Trick-or-Treat for Books
DESCRIPTION:Stop in for a "treat" - a free book! This is a great way to celebrate the season and promote family literacy by enjoying stories and books together.
X-ALT-DESC;FMTTYPE=text/html:Stop in for a &ldquo\;treat&rdquo\; - a free book! This is a great way to celebrate the season and promote family literacy by enjoying stories and books together.
LOCATION:Southwest Harbor Public Library
UID:e.3061.3981
SEQUENCE:3
DTSTAMP:20260420T132134Z
URL:https://www.visitbarharbor.com/events/details/trick-or-treat-for-books-3981
END:VEVENT

END:VCALENDAR
