BEGIN:VCALENDAR
VERSION:2.0
PRODID:-//ChamberMaster//Event Calendar 2.0//EN
METHOD:PUBLISH
X-PUBLISHED-TTL:P3D
REFRESH-INTERVAL:P3D
CALSCALE:GREGORIAN
BEGIN:VEVENT
DTSTART:20190914T140000Z
DTEND:20190914T200000Z
X-MICROSOFT-CDO-ALLDAYEVENT:FALSE
SUMMARY:Traditional & Punch Rug Hooking for Beginners with Judith Hotchkiss
DESCRIPTION:If you've always admired hooked rugs and thought you might enjoy making your own\, then this class with veteran instructor Judith Hotchkiss is for you! In this one day introductory workshop\, you will make a 9" hooked piece with a coastal design that can be used as a trivet\, wall hanging or pillow. A kit is provided with all materials needed to complete the project. Frames\, hooks and punches are available for loan during class and purchase afterwards\, if desired. Please indicate if you will be doing the traditional or punch technique with your registration.  Bring a bag lunch. Space is limited and pre-registration is required at www.woodlawnmuseum.com.
X-ALT-DESC;FMTTYPE=text/html:If you&rsquo\;ve always admired hooked rugs and thought you might enjoy making your own\, then this class with veteran instructor Judith Hotchkiss is for you! In this one day introductory workshop\, you will make a 9&rdquo\; hooked piece with a coastal design that can be used as a trivet\, wall hanging or pillow. A kit is provided with all materials needed to complete the project. Frames\, hooks and punches are available for loan during class and purchase afterwards\, if desired. Please indicate if you will be doing the traditional or punch technique with your registration. &nbsp\;Bring a bag lunch. Space is limited and pre-registration is required at www.woodlawnmuseum.com.<br />\n&nbsp\;
LOCATION:Woodlawn Museum 19 Black House Dr. Ellsworth\, ME 04605
UID:e.3061.12256
SEQUENCE:3
DTSTAMP:20260419T173955Z
URL:https://www.visitbarharbor.com/events/details/traditional-punch-rug-hooking-for-beginners-with-judith-hotchkiss-09-14-2019-12256
END:VEVENT

END:VCALENDAR
