BEGIN:VCALENDAR
VERSION:2.0
PRODID:-//ChamberMaster//Event Calendar 2.0//EN
METHOD:PUBLISH
X-PUBLISHED-TTL:P3D
REFRESH-INTERVAL:P3D
CALSCALE:GREGORIAN
BEGIN:VEVENT
DTSTART:20190727T133000Z
DTEND:20190727T163000Z
X-MICROSOFT-CDO-ALLDAYEVENT:FALSE
SUMMARY:Torch Fire Enameling for Beginners with Amanda Coburn
DESCRIPTION:Artist Amanda Coburn will teach you how to fuse powdered glass enamel to copper using a torch\, to create stunning colorful jewelry. Amanda has taught private metalsmithing lessons in her home studio and artisan workshops for several years.  She is the co-owner of Maine\, Jewelry & Art in Bangor\, Maine (http://www.mainejewelryart.com/artisans.html). Space is limited and pre-registration is required at www.woodlawnmuseum.com.
X-ALT-DESC;FMTTYPE=text/html:Artist Amanda Coburn will teach you how to fuse powdered glass enamel to copper using a torch\, to create stunning colorful jewelry. Amanda has taught private metalsmithing lessons in her home studio and artisan workshops for several years.&nbsp\; She is the co-owner of Maine\, Jewelry &amp\; Art in Bangor\, Maine (<a href="http://www.mainejewelryart.com/artisans.html">http://www.mainejewelryart.com/artisans.html</a>). Space is limited and pre-registration is required at www.woodlawnmuseum.com.
LOCATION:Woodlawn Museum 19 Black House Dr. Ellsworth\, ME 04605
UID:e.3061.8896
SEQUENCE:3
DTSTAMP:20260419T212343Z
URL:https://www.visitbarharbor.com/events/details/torch-fire-enameling-for-beginners-with-amanda-coburn-8896
END:VEVENT

END:VCALENDAR
