BEGIN:VCALENDAR
VERSION:2.0
PRODID:-//ChamberMaster//Event Calendar 2.0//EN
METHOD:PUBLISH
X-PUBLISHED-TTL:P3D
REFRESH-INTERVAL:P3D
CALSCALE:GREGORIAN
BEGIN:VEVENT
DTSTART:20180530T140000Z
DTEND:20180530T144500Z
X-MICROSOFT-CDO-ALLDAYEVENT:FALSE
SUMMARY:Toddler Storytime
DESCRIPTION:Join Amanda Crafts as she leads songs\, simple sign language\, and interactive short stories. (Designed ages 3-5 but all welcome)
X-ALT-DESC;FMTTYPE=text/html:Join Amanda Crafts as she leads songs\, simple sign language\, and interactive short stories. (Designed ages 3-5 but all welcome)
LOCATION:Southwest Harbor Public Library
UID:e.3061.2754
SEQUENCE:3
DTSTAMP:20260421T012408Z
URL:https://www.visitbarharbor.com/events/details/toddler-storytime-2754
END:VEVENT

END:VCALENDAR
