BEGIN:VCALENDAR
VERSION:2.0
PRODID:-//ChamberMaster//Event Calendar 2.0//EN
METHOD:PUBLISH
X-PUBLISHED-TTL:P3D
REFRESH-INTERVAL:P3D
CALSCALE:GREGORIAN
BEGIN:VEVENT
DTSTART:20180627T140000Z
DTEND:20180627T144500Z
X-MICROSOFT-CDO-ALLDAYEVENT:FALSE
SUMMARY:Toddler Storytime
DESCRIPTION:Join Amanda Crafts as she leads songs\, simple sign language\, and interactive short stories. (Designed ages 3-5 but all welcome.)
X-ALT-DESC;FMTTYPE=text/html:Join Amanda Crafts as she leads songs\, simple sign language\, and interactive short stories. (Designed ages 3-5 but all welcome.)
LOCATION:Southwest Harbor Public Library
UID:e.3061.2798
SEQUENCE:3
DTSTAMP:20260421T012717Z
URL:https://www.visitbarharbor.com/events/details/toddler-storytime-06-27-2018-2798
END:VEVENT

END:VCALENDAR
