BEGIN:VCALENDAR
VERSION:2.0
PRODID:-//ChamberMaster//Event Calendar 2.0//EN
METHOD:PUBLISH
X-PUBLISHED-TTL:P3D
REFRESH-INTERVAL:P3D
CALSCALE:GREGORIAN
BEGIN:VEVENT
DTSTART:20190116T150000Z
DTEND:20190116T154500Z
X-MICROSOFT-CDO-ALLDAYEVENT:FALSE
SUMMARY:Toddler Storytime
DESCRIPTION:Join Children's Library staff in songs\, simple sign language\, and interactive short stories. (Designed ages 3-5 but all welcome.) For more information\, please call the Library\, 244-7065.
X-ALT-DESC;FMTTYPE=text/html:Join Children&#39\;s Library staff in songs\, simple sign language\, and interactive short stories. (Designed ages 3-5 but all welcome.) For more information\, please call the Library\, 244-7065.
LOCATION:Southwest Harbor Public Library
UID:e.3061.4872
SEQUENCE:3
DTSTAMP:20260420T081736Z
URL:https://www.visitbarharbor.com/events/details/toddler-storytime-01-16-2019-4872
END:VEVENT

END:VCALENDAR
