BEGIN:VCALENDAR
VERSION:2.0
PRODID:-//ChamberMaster//Event Calendar 2.0//EN
METHOD:PUBLISH
X-PUBLISHED-TTL:P3D
REFRESH-INTERVAL:P3D
CALSCALE:GREGORIAN
BEGIN:VEVENT
DTSTART:20180704T140000Z
DTEND:20180704T153000Z
X-MICROSOFT-CDO-ALLDAYEVENT:FALSE
SUMMARY:Timbered Lake in Morning Concert
DESCRIPTION:Ease into your holiday morning with a casual. outdoor breakfast of popovers\, oatmeal\, and organic coffee and relax with the folk-indie music of Timbered Lake.
X-ALT-DESC;FMTTYPE=text/html:Ease into your holiday morning with a casual. outdoor breakfast of popovers\, oatmeal\, and organic coffee and relax with the folk-indie music of Timbered Lake.
LOCATION:Common Good Cafe 19 Clark Point Road Southwest Harbor. ME
UID:e.3061.3018
SEQUENCE:3
DTSTAMP:20260420T200244Z
URL:https://www.visitbarharbor.com/events/details/timbered-lake-in-morning-concert-3018
END:VEVENT

END:VCALENDAR
