BEGIN:VCALENDAR
VERSION:2.0
PRODID:-//ChamberMaster//Event Calendar 2.0//EN
METHOD:PUBLISH
X-PUBLISHED-TTL:P3D
REFRESH-INTERVAL:P3D
CALSCALE:GREGORIAN
BEGIN:VEVENT
DTSTART:20180711T140000Z
DTEND:20180711T153000Z
X-MICROSOFT-CDO-ALLDAYEVENT:FALSE
SUMMARY:Timbered Lake in Morning Concert
DESCRIPTION:Start your day off with a casual\, outdoor breakfast of fresh popovers while enjoying the luminous music of the folk-indie duo Timbered Lake
X-ALT-DESC;FMTTYPE=text/html:Start your day off with a casual\, outdoor breakfast of fresh popovers while enjoying the luminous music of the folk-indie duo Timbered Lake
LOCATION:Common Good Cafe 19 Clark Point Road Southwest Harbor\, ME
UID:e.3061.3162
SEQUENCE:3
DTSTAMP:20260420T200406Z
URL:https://www.visitbarharbor.com/events/details/timbered-lake-in-morning-concert-07-11-2018-3162
END:VEVENT

END:VCALENDAR
